BEGIN:VCALENDAR
VERSION:2.0
PRODID:-//First United Methodist Church of Park Ridge - ECPv6.15.20//NONSGML v1.0//EN
CALSCALE:GREGORIAN
METHOD:PUBLISH
X-WR-CALNAME:First United Methodist Church of Park Ridge
X-ORIGINAL-URL:https://parkridgeumc.org
X-WR-CALDESC:Events for First United Methodist Church of Park Ridge
REFRESH-INTERVAL;VALUE=DURATION:PT1H
X-Robots-Tag:noindex
X-PUBLISHED-TTL:PT1H
BEGIN:VTIMEZONE
TZID:America/Chicago
BEGIN:DAYLIGHT
TZOFFSETFROM:-0600
TZOFFSETTO:-0500
TZNAME:CDT
DTSTART:20260308T080000
END:DAYLIGHT
BEGIN:STANDARD
TZOFFSETFROM:-0500
TZOFFSETTO:-0600
TZNAME:CST
DTSTART:20261101T070000
END:STANDARD
BEGIN:DAYLIGHT
TZOFFSETFROM:-0600
TZOFFSETTO:-0500
TZNAME:CDT
DTSTART:20270314T080000
END:DAYLIGHT
BEGIN:STANDARD
TZOFFSETFROM:-0500
TZOFFSETTO:-0600
TZNAME:CST
DTSTART:20271107T070000
END:STANDARD
BEGIN:DAYLIGHT
TZOFFSETFROM:-0600
TZOFFSETTO:-0500
TZNAME:CDT
DTSTART:20280312T080000
END:DAYLIGHT
BEGIN:STANDARD
TZOFFSETFROM:-0500
TZOFFSETTO:-0600
TZNAME:CST
DTSTART:20281105T070000
END:STANDARD
END:VTIMEZONE
BEGIN:VEVENT
DTSTART;TZID=America/Chicago:20270425T080000
DTEND;TZID=America/Chicago:20270425T090000
DTSTAMP:20260421T083400
CREATED:20251231T170100Z
LAST-MODIFIED:20260420T181812Z
UID:10000306-1808640000-1808643600@parkridgeumc.org
SUMMARY:8AM Adult Sunday School
DESCRIPTION:
URL:https://parkridgeumc.org/event/8am-adult-sunday-school-69/
LOCATION:First UMC-1-Library (20)
CATEGORIES:Learning
END:VEVENT
BEGIN:VEVENT
DTSTART;TZID=America/Chicago:20270428T190000
DTEND;TZID=America/Chicago:20270428T201500
DTSTAMP:20260421T083400
CREATED:20260317T193323Z
LAST-MODIFIED:20260420T181812Z
UID:10001555-1808938800-1808943300@parkridgeumc.org
SUMMARY:Popcorn Theology Video Discussion
DESCRIPTION:Learning: Fourth Wednesday Popcorn Theology Video DiscussionDate: Wednesday\, April 22Time: 7:00–8:15 pmLocation: LibraryContact with Questions: Pastor Scott (shimel@parkridgeumc.org)Pastor Scott hosts a monthly discussion about a wide variety of theological topics that relate to our everyday lives. The group watches a video of theologians and other speakers presenting on a given topic\, then everyone discusses afterward. There’s also lots of popcorn!
URL:https://parkridgeumc.org/event/popcorn-theology-video-discussion-34/
LOCATION:First UMC-1-Library (20)
CATEGORIES:Learning
END:VEVENT
BEGIN:VEVENT
DTSTART;TZID=America/Chicago:20270502T080000
DTEND;TZID=America/Chicago:20270502T090000
DTSTAMP:20260421T083400
CREATED:20251231T170100Z
LAST-MODIFIED:20260420T181812Z
UID:10000308-1809244800-1809248400@parkridgeumc.org
SUMMARY:8AM Adult Sunday School
DESCRIPTION:
URL:https://parkridgeumc.org/event/8am-adult-sunday-school-70/
LOCATION:First UMC-1-Library (20)
CATEGORIES:Learning
END:VEVENT
BEGIN:VEVENT
DTSTART;TZID=America/Chicago:20270509T080000
DTEND;TZID=America/Chicago:20270509T090000
DTSTAMP:20260421T083400
CREATED:20251231T170101Z
LAST-MODIFIED:20260420T181812Z
UID:10000309-1809849600-1809853200@parkridgeumc.org
SUMMARY:8AM Adult Sunday School
DESCRIPTION:
URL:https://parkridgeumc.org/event/8am-adult-sunday-school-71/
LOCATION:First UMC-1-Library (20)
CATEGORIES:Learning
END:VEVENT
BEGIN:VEVENT
DTSTART;TZID=America/Chicago:20270510T090000
DTEND;TZID=America/Chicago:20270510T120000
DTSTAMP:20260421T083400
CREATED:20260402T204905Z
LAST-MODIFIED:20260420T173338Z
UID:10001629-1809939600-1809950400@parkridgeumc.org
SUMMARY:PEO
DESCRIPTION:
URL:https://parkridgeumc.org/event/peo-25/
LOCATION:First UMC-1-Library (20)
CATEGORIES:Space Sharing
END:VEVENT
BEGIN:VEVENT
DTSTART;TZID=America/Chicago:20270513T103000
DTEND;TZID=America/Chicago:20270513T120000
DTSTAMP:20260421T083400
CREATED:20260209T221804Z
LAST-MODIFIED:20260420T143259Z
UID:10001422-1810204200-1810209600@parkridgeumc.org
SUMMARY:UWF Board Meeting
DESCRIPTION:
URL:https://parkridgeumc.org/event/uwf-board-meeting-15/
LOCATION:First UMC-1-Library (20)
CATEGORIES:UWFaith (Women's Ministry)
END:VEVENT
BEGIN:VEVENT
DTSTART;TZID=America/Chicago:20270516T080000
DTEND;TZID=America/Chicago:20270516T090000
DTSTAMP:20260421T083400
CREATED:20251231T170101Z
LAST-MODIFIED:20260420T181813Z
UID:10000310-1810454400-1810458000@parkridgeumc.org
SUMMARY:8AM Adult Sunday School
DESCRIPTION:
URL:https://parkridgeumc.org/event/8am-adult-sunday-school-72/
LOCATION:First UMC-1-Library (20)
CATEGORIES:Learning
END:VEVENT
BEGIN:VEVENT
DTSTART;TZID=America/Chicago:20270517T130000
DTEND;TZID=America/Chicago:20270517T150000
DTSTAMP:20260421T083400
CREATED:20251231T171216Z
LAST-MODIFIED:20260420T143259Z
UID:10001144-1810558800-1810566000@parkridgeumc.org
SUMMARY:Prayer Shawl
DESCRIPTION:
URL:https://parkridgeumc.org/event/prayer-shawl-34/
LOCATION:First UMC-1-Library (20)
CATEGORIES:UWFaith (Women's Ministry)
END:VEVENT
BEGIN:VEVENT
DTSTART;TZID=America/Chicago:20270517T190000
DTEND;TZID=America/Chicago:20270517T210000
DTSTAMP:20260421T083400
CREATED:20260420T230310Z
LAST-MODIFIED:20260420T230310Z
UID:10001718-1810580400-1810587600@parkridgeumc.org
SUMMARY:Trustees Meeting
DESCRIPTION:
URL:https://parkridgeumc.org/event/trustees-meeting-15/
LOCATION:First UMC-1-Library (20)
CATEGORIES:Meetings
END:VEVENT
BEGIN:VEVENT
DTSTART;TZID=America/Chicago:20270523T080000
DTEND;TZID=America/Chicago:20270523T090000
DTSTAMP:20260421T083400
CREATED:20251231T170101Z
LAST-MODIFIED:20260420T181813Z
UID:10000311-1811059200-1811062800@parkridgeumc.org
SUMMARY:8AM Adult Sunday School
DESCRIPTION:
URL:https://parkridgeumc.org/event/8am-adult-sunday-school-73/
LOCATION:First UMC-1-Library (20)
CATEGORIES:Learning
END:VEVENT
BEGIN:VEVENT
DTSTART;TZID=America/Chicago:20270526T190000
DTEND;TZID=America/Chicago:20270526T201500
DTSTAMP:20260421T083400
CREATED:20260317T193324Z
LAST-MODIFIED:20260420T181813Z
UID:10001556-1811358000-1811362500@parkridgeumc.org
SUMMARY:Popcorn Theology Video Discussion
DESCRIPTION:Learning: Fourth Wednesday Popcorn Theology Video DiscussionDate: Wednesday\, April 22Time: 7:00–8:15 pmLocation: LibraryContact with Questions: Pastor Scott (shimel@parkridgeumc.org)Pastor Scott hosts a monthly discussion about a wide variety of theological topics that relate to our everyday lives. The group watches a video of theologians and other speakers presenting on a given topic\, then everyone discusses afterward. There’s also lots of popcorn!
URL:https://parkridgeumc.org/event/popcorn-theology-video-discussion-35/
LOCATION:First UMC-1-Library (20)
CATEGORIES:Learning
END:VEVENT
BEGIN:VEVENT
DTSTART;TZID=America/Chicago:20270530T080000
DTEND;TZID=America/Chicago:20270530T090000
DTSTAMP:20260421T083400
CREATED:20251231T170101Z
LAST-MODIFIED:20260420T181813Z
UID:10000313-1811664000-1811667600@parkridgeumc.org
SUMMARY:8AM Adult Sunday School
DESCRIPTION:
URL:https://parkridgeumc.org/event/8am-adult-sunday-school-74/
LOCATION:First UMC-1-Library (20)
CATEGORIES:Learning
END:VEVENT
BEGIN:VEVENT
DTSTART;TZID=America/Chicago:20270606T080000
DTEND;TZID=America/Chicago:20270606T090000
DTSTAMP:20260421T083400
CREATED:20251231T170101Z
LAST-MODIFIED:20260420T181813Z
UID:10000314-1812268800-1812272400@parkridgeumc.org
SUMMARY:8AM Adult Sunday School
DESCRIPTION:
URL:https://parkridgeumc.org/event/8am-adult-sunday-school-75/
LOCATION:First UMC-1-Library (20)
CATEGORIES:Learning
END:VEVENT
BEGIN:VEVENT
DTSTART;TZID=America/Chicago:20270610T103000
DTEND;TZID=America/Chicago:20270610T120000
DTSTAMP:20260421T083400
CREATED:20260209T221805Z
LAST-MODIFIED:20260420T143259Z
UID:10001423-1812623400-1812628800@parkridgeumc.org
SUMMARY:UWF Board Meeting
DESCRIPTION:
URL:https://parkridgeumc.org/event/uwf-board-meeting-16/
LOCATION:First UMC-1-Library (20)
CATEGORIES:UWFaith (Women's Ministry)
END:VEVENT
BEGIN:VEVENT
DTSTART;TZID=America/Chicago:20270613T080000
DTEND;TZID=America/Chicago:20270613T090000
DTSTAMP:20260421T083400
CREATED:20251231T170101Z
LAST-MODIFIED:20260420T181814Z
UID:10000315-1812873600-1812877200@parkridgeumc.org
SUMMARY:8AM Adult Sunday School
DESCRIPTION:
URL:https://parkridgeumc.org/event/8am-adult-sunday-school-76/
LOCATION:First UMC-1-Library (20)
CATEGORIES:Learning
END:VEVENT
BEGIN:VEVENT
DTSTART;TZID=America/Chicago:20270614T090000
DTEND;TZID=America/Chicago:20270614T120000
DTSTAMP:20260421T083400
CREATED:20260402T204910Z
LAST-MODIFIED:20260420T173343Z
UID:10001651-1812963600-1812974400@parkridgeumc.org
SUMMARY:PEO
DESCRIPTION:
URL:https://parkridgeumc.org/event/peo-26/
LOCATION:First UMC-1-Library (20)
CATEGORIES:Space Sharing
END:VEVENT
BEGIN:VEVENT
DTSTART;TZID=America/Chicago:20270620T080000
DTEND;TZID=America/Chicago:20270620T090000
DTSTAMP:20260421T083400
CREATED:20251231T170102Z
LAST-MODIFIED:20260420T181814Z
UID:10000316-1813478400-1813482000@parkridgeumc.org
SUMMARY:8AM Adult Sunday School
DESCRIPTION:
URL:https://parkridgeumc.org/event/8am-adult-sunday-school-77/
LOCATION:First UMC-1-Library (20)
CATEGORIES:Learning
END:VEVENT
BEGIN:VEVENT
DTSTART;TZID=America/Chicago:20270621T130000
DTEND;TZID=America/Chicago:20270621T150000
DTSTAMP:20260421T083400
CREATED:20251231T171216Z
LAST-MODIFIED:20260420T143259Z
UID:10001146-1813582800-1813590000@parkridgeumc.org
SUMMARY:Prayer Shawl
DESCRIPTION:
URL:https://parkridgeumc.org/event/prayer-shawl-36/
LOCATION:First UMC-1-Library (20)
CATEGORIES:UWFaith (Women's Ministry)
END:VEVENT
BEGIN:VEVENT
DTSTART;TZID=America/Chicago:20270621T190000
DTEND;TZID=America/Chicago:20270621T210000
DTSTAMP:20260421T083400
CREATED:20260420T230311Z
LAST-MODIFIED:20260420T230311Z
UID:10001719-1813604400-1813611600@parkridgeumc.org
SUMMARY:Trustees Meeting
DESCRIPTION:
URL:https://parkridgeumc.org/event/trustees-meeting-16/
LOCATION:First UMC-1-Library (20)
CATEGORIES:Meetings
END:VEVENT
BEGIN:VEVENT
DTSTART;TZID=America/Chicago:20270623T190000
DTEND;TZID=America/Chicago:20270623T201500
DTSTAMP:20260421T083400
CREATED:20260317T193325Z
LAST-MODIFIED:20260420T181814Z
UID:10001557-1813777200-1813781700@parkridgeumc.org
SUMMARY:Popcorn Theology Video Discussion
DESCRIPTION:Learning: Fourth Wednesday Popcorn Theology Video DiscussionDate: Wednesday\, April 22Time: 7:00–8:15 pmLocation: LibraryContact with Questions: Pastor Scott (shimel@parkridgeumc.org)Pastor Scott hosts a monthly discussion about a wide variety of theological topics that relate to our everyday lives. The group watches a video of theologians and other speakers presenting on a given topic\, then everyone discusses afterward. There’s also lots of popcorn!
URL:https://parkridgeumc.org/event/popcorn-theology-video-discussion-36/
LOCATION:First UMC-1-Library (20)
CATEGORIES:Learning
END:VEVENT
BEGIN:VEVENT
DTSTART;TZID=America/Chicago:20270627T080000
DTEND;TZID=America/Chicago:20270627T090000
DTSTAMP:20260421T083400
CREATED:20251231T170102Z
LAST-MODIFIED:20260420T181814Z
UID:10000318-1814083200-1814086800@parkridgeumc.org
SUMMARY:8AM Adult Sunday School
DESCRIPTION:
URL:https://parkridgeumc.org/event/8am-adult-sunday-school-78/
LOCATION:First UMC-1-Library (20)
CATEGORIES:Learning
END:VEVENT
BEGIN:VEVENT
DTSTART;TZID=America/Chicago:20270704T080000
DTEND;TZID=America/Chicago:20270704T090000
DTSTAMP:20260421T083400
CREATED:20251231T170102Z
LAST-MODIFIED:20260420T181814Z
UID:10000319-1814688000-1814691600@parkridgeumc.org
SUMMARY:8AM Adult Sunday School
DESCRIPTION:
URL:https://parkridgeumc.org/event/8am-adult-sunday-school-79/
LOCATION:First UMC-1-Library (20)
CATEGORIES:Learning
END:VEVENT
BEGIN:VEVENT
DTSTART;TZID=America/Chicago:20270711T080000
DTEND;TZID=America/Chicago:20270711T090000
DTSTAMP:20260421T083400
CREATED:20251231T170102Z
LAST-MODIFIED:20260420T181814Z
UID:10000320-1815292800-1815296400@parkridgeumc.org
SUMMARY:8AM Adult Sunday School
DESCRIPTION:
URL:https://parkridgeumc.org/event/8am-adult-sunday-school-80/
LOCATION:First UMC-1-Library (20)
CATEGORIES:Learning
END:VEVENT
BEGIN:VEVENT
DTSTART;TZID=America/Chicago:20270712T090000
DTEND;TZID=America/Chicago:20270712T120000
DTSTAMP:20260421T083400
CREATED:20260402T204914Z
LAST-MODIFIED:20260420T173345Z
UID:10001668-1815382800-1815393600@parkridgeumc.org
SUMMARY:PEO
DESCRIPTION:
URL:https://parkridgeumc.org/event/peo-27/
LOCATION:First UMC-1-Library (20)
CATEGORIES:Space Sharing
END:VEVENT
BEGIN:VEVENT
DTSTART;TZID=America/Chicago:20270718T080000
DTEND;TZID=America/Chicago:20270718T090000
DTSTAMP:20260421T083400
CREATED:20251231T170102Z
LAST-MODIFIED:20260420T181814Z
UID:10000321-1815897600-1815901200@parkridgeumc.org
SUMMARY:8AM Adult Sunday School
DESCRIPTION:
URL:https://parkridgeumc.org/event/8am-adult-sunday-school-81/
LOCATION:First UMC-1-Library (20)
CATEGORIES:Learning
END:VEVENT
BEGIN:VEVENT
DTSTART;TZID=America/Chicago:20270719T130000
DTEND;TZID=America/Chicago:20270719T150000
DTSTAMP:20260421T083400
CREATED:20251231T171216Z
LAST-MODIFIED:20260420T143300Z
UID:10001148-1816002000-1816009200@parkridgeumc.org
SUMMARY:Prayer Shawl
DESCRIPTION:
URL:https://parkridgeumc.org/event/prayer-shawl-38/
LOCATION:First UMC-1-Library (20)
CATEGORIES:UWFaith (Women's Ministry)
END:VEVENT
BEGIN:VEVENT
DTSTART;TZID=America/Chicago:20270719T190000
DTEND;TZID=America/Chicago:20270719T210000
DTSTAMP:20260421T083400
CREATED:20260420T230311Z
LAST-MODIFIED:20260420T230311Z
UID:10001720-1816023600-1816030800@parkridgeumc.org
SUMMARY:Trustees Meeting
DESCRIPTION:
URL:https://parkridgeumc.org/event/trustees-meeting-17/
LOCATION:First UMC-1-Library (20)
CATEGORIES:Meetings
END:VEVENT
BEGIN:VEVENT
DTSTART;TZID=America/Chicago:20270725T080000
DTEND;TZID=America/Chicago:20270725T090000
DTSTAMP:20260421T083400
CREATED:20251231T170103Z
LAST-MODIFIED:20260420T181815Z
UID:10000322-1816502400-1816506000@parkridgeumc.org
SUMMARY:8AM Adult Sunday School
DESCRIPTION:
URL:https://parkridgeumc.org/event/8am-adult-sunday-school-82/
LOCATION:First UMC-1-Library (20)
CATEGORIES:Learning
END:VEVENT
BEGIN:VEVENT
DTSTART;TZID=America/Chicago:20270728T190000
DTEND;TZID=America/Chicago:20270728T201500
DTSTAMP:20260421T083400
CREATED:20260317T193327Z
LAST-MODIFIED:20260420T181815Z
UID:10001558-1816801200-1816805700@parkridgeumc.org
SUMMARY:Popcorn Theology Video Discussion
DESCRIPTION:Learning: Fourth Wednesday Popcorn Theology Video DiscussionDate: Wednesday\, April 22Time: 7:00–8:15 pmLocation: LibraryContact with Questions: Pastor Scott (shimel@parkridgeumc.org)Pastor Scott hosts a monthly discussion about a wide variety of theological topics that relate to our everyday lives. The group watches a video of theologians and other speakers presenting on a given topic\, then everyone discusses afterward. There’s also lots of popcorn!
URL:https://parkridgeumc.org/event/popcorn-theology-video-discussion-37/
LOCATION:First UMC-1-Library (20)
CATEGORIES:Learning
END:VEVENT
BEGIN:VEVENT
DTSTART;TZID=America/Chicago:20270801T080000
DTEND;TZID=America/Chicago:20270801T090000
DTSTAMP:20260421T083400
CREATED:20251231T170103Z
LAST-MODIFIED:20260420T181815Z
UID:10000324-1817107200-1817110800@parkridgeumc.org
SUMMARY:8AM Adult Sunday School
DESCRIPTION:
URL:https://parkridgeumc.org/event/8am-adult-sunday-school-83/
LOCATION:First UMC-1-Library (20)
CATEGORIES:Learning
END:VEVENT
END:VCALENDAR