BEGIN:VCALENDAR
VERSION:2.0
PRODID:-//First United Methodist Church of Park Ridge - ECPv6.15.20//NONSGML v1.0//EN
CALSCALE:GREGORIAN
METHOD:PUBLISH
X-ORIGINAL-URL:https://parkridgeumc.org
X-WR-CALDESC:Events for First United Methodist Church of Park Ridge
REFRESH-INTERVAL;VALUE=DURATION:PT1H
X-Robots-Tag:noindex
X-PUBLISHED-TTL:PT1H
BEGIN:VTIMEZONE
TZID:America/Chicago
BEGIN:DAYLIGHT
TZOFFSETFROM:-0600
TZOFFSETTO:-0500
TZNAME:CDT
DTSTART:20260308T080000
END:DAYLIGHT
BEGIN:STANDARD
TZOFFSETFROM:-0500
TZOFFSETTO:-0600
TZNAME:CST
DTSTART:20261101T070000
END:STANDARD
BEGIN:DAYLIGHT
TZOFFSETFROM:-0600
TZOFFSETTO:-0500
TZNAME:CDT
DTSTART:20270314T080000
END:DAYLIGHT
BEGIN:STANDARD
TZOFFSETFROM:-0500
TZOFFSETTO:-0600
TZNAME:CST
DTSTART:20271107T070000
END:STANDARD
BEGIN:DAYLIGHT
TZOFFSETFROM:-0600
TZOFFSETTO:-0500
TZNAME:CDT
DTSTART:20280312T080000
END:DAYLIGHT
BEGIN:STANDARD
TZOFFSETFROM:-0500
TZOFFSETTO:-0600
TZNAME:CST
DTSTART:20281105T070000
END:STANDARD
BEGIN:DAYLIGHT
TZOFFSETFROM:-0600
TZOFFSETTO:-0500
TZNAME:CDT
DTSTART:20290311T080000
END:DAYLIGHT
BEGIN:STANDARD
TZOFFSETFROM:-0500
TZOFFSETTO:-0600
TZNAME:CST
DTSTART:20291104T070000
END:STANDARD
END:VTIMEZONE
BEGIN:VEVENT
DTSTART;TZID=America/Chicago:20271212T080000
DTEND;TZID=America/Chicago:20271212T090000
DTSTAMP:20260421T124657
CREATED:20251231T170108Z
LAST-MODIFIED:20260420T181818Z
UID:10000347-1828598400-1828602000@parkridgeumc.org
SUMMARY:8AM Adult Sunday School
DESCRIPTION:
URL:https://parkridgeumc.org/event/8am-adult-sunday-school-102/
LOCATION:First UMC-1-Library (20)
CATEGORIES:Learning
END:VEVENT
BEGIN:VEVENT
DTSTART;TZID=America/Chicago:20271219T080000
DTEND;TZID=America/Chicago:20271219T090000
DTSTAMP:20260421T124657
CREATED:20251231T170108Z
LAST-MODIFIED:20260420T181819Z
UID:10000348-1829203200-1829206800@parkridgeumc.org
SUMMARY:8AM Adult Sunday School
DESCRIPTION:
URL:https://parkridgeumc.org/event/8am-adult-sunday-school-103/
LOCATION:First UMC-1-Library (20)
CATEGORIES:Learning
END:VEVENT
BEGIN:VEVENT
DTSTART;TZID=America/Chicago:20271220T130000
DTEND;TZID=America/Chicago:20271220T150000
DTSTAMP:20260421T124657
CREATED:20251231T171218Z
LAST-MODIFIED:20260421T143308Z
UID:10001158-1829307600-1829314800@parkridgeumc.org
SUMMARY:Prayer Shawl
DESCRIPTION:
URL:https://parkridgeumc.org/event/prayer-shawl-48/
LOCATION:First UMC-1-Library (20)
CATEGORIES:UWFaith (Women's Ministry)
END:VEVENT
BEGIN:VEVENT
DTSTART;TZID=America/Chicago:20271220T190000
DTEND;TZID=America/Chicago:20271220T210000
DTSTAMP:20260421T124657
CREATED:20260420T230316Z
LAST-MODIFIED:20260420T230316Z
UID:10001725-1829329200-1829336400@parkridgeumc.org
SUMMARY:Trustees Meeting
DESCRIPTION:
URL:https://parkridgeumc.org/event/trustees-meeting-22/
LOCATION:First UMC-1-Library (20)
CATEGORIES:Meetings
END:VEVENT
BEGIN:VEVENT
DTSTART;TZID=America/Chicago:20271222T190000
DTEND;TZID=America/Chicago:20271222T201500
DTSTAMP:20260421T124657
CREATED:20260317T193334Z
LAST-MODIFIED:20260420T181819Z
UID:10001563-1829502000-1829506500@parkridgeumc.org
SUMMARY:Popcorn Theology Video Discussion
DESCRIPTION:Learning: Fourth Wednesday Popcorn Theology Video DiscussionDate: Wednesday\, April 22Time: 7:00–8:15 pmLocation: LibraryContact with Questions: Pastor Scott (shimel@parkridgeumc.org)Pastor Scott hosts a monthly discussion about a wide variety of theological topics that relate to our everyday lives. The group watches a video of theologians and other speakers presenting on a given topic\, then everyone discusses afterward. There’s also lots of popcorn!
URL:https://parkridgeumc.org/event/popcorn-theology-video-discussion-42/
LOCATION:First UMC-1-Library (20)
CATEGORIES:Learning
END:VEVENT
BEGIN:VEVENT
DTSTART;TZID=America/Chicago:20271226T080000
DTEND;TZID=America/Chicago:20271226T090000
DTSTAMP:20260421T124657
CREATED:20251231T170109Z
LAST-MODIFIED:20260420T181819Z
UID:10000350-1829808000-1829811600@parkridgeumc.org
SUMMARY:8AM Adult Sunday School
DESCRIPTION:
URL:https://parkridgeumc.org/event/8am-adult-sunday-school-104/
LOCATION:First UMC-1-Library (20)
CATEGORIES:Learning
END:VEVENT
BEGIN:VEVENT
DTSTART;TZID=America/Chicago:20280102T080000
DTEND;TZID=America/Chicago:20280102T090000
DTSTAMP:20260421T124657
CREATED:20260102T000655Z
LAST-MODIFIED:20260420T181819Z
UID:10001163-1830412800-1830416400@parkridgeumc.org
SUMMARY:8AM Adult Sunday School
DESCRIPTION:
URL:https://parkridgeumc.org/event/8am-adult-sunday-school-105/
LOCATION:First UMC-1-Library (20)
CATEGORIES:Learning
END:VEVENT
BEGIN:VEVENT
DTSTART;TZID=America/Chicago:20280109T080000
DTEND;TZID=America/Chicago:20280109T090000
DTSTAMP:20260421T124657
CREATED:20260109T170324Z
LAST-MODIFIED:20260420T181819Z
UID:10001247-1831017600-1831021200@parkridgeumc.org
SUMMARY:8AM Adult Sunday School
DESCRIPTION:
URL:https://parkridgeumc.org/event/8am-adult-sunday-school-106/
LOCATION:First UMC-1-Library (20)
CATEGORIES:Learning
END:VEVENT
BEGIN:VEVENT
DTSTART;TZID=America/Chicago:20280116T080000
DTEND;TZID=America/Chicago:20280116T090000
DTSTAMP:20260421T124657
CREATED:20260116T171830Z
LAST-MODIFIED:20260420T181819Z
UID:10001292-1831622400-1831626000@parkridgeumc.org
SUMMARY:8AM Adult Sunday School
DESCRIPTION:
URL:https://parkridgeumc.org/event/8am-adult-sunday-school-107/
LOCATION:First UMC-1-Library (20)
CATEGORIES:Learning
END:VEVENT
BEGIN:VEVENT
DTSTART;TZID=America/Chicago:20280117T130000
DTEND;TZID=America/Chicago:20280117T150000
DTSTAMP:20260421T124657
CREATED:20260117T210302Z
LAST-MODIFIED:20260421T143309Z
UID:10001296-1831726800-1831734000@parkridgeumc.org
SUMMARY:Prayer Shawl
DESCRIPTION:
URL:https://parkridgeumc.org/event/prayer-shawl-50/
LOCATION:First UMC-1-Library (20)
CATEGORIES:UWFaith (Women's Ministry)
END:VEVENT
BEGIN:VEVENT
DTSTART;TZID=America/Chicago:20280117T190000
DTEND;TZID=America/Chicago:20280117T210000
DTSTAMP:20260421T124657
CREATED:20260420T230318Z
LAST-MODIFIED:20260420T230318Z
UID:10001726-1831748400-1831755600@parkridgeumc.org
SUMMARY:Trustees Meeting
DESCRIPTION:
URL:https://parkridgeumc.org/event/trustees-meeting-23/
LOCATION:First UMC-1-Library (20)
CATEGORIES:Meetings
END:VEVENT
BEGIN:VEVENT
DTSTART;TZID=America/Chicago:20280123T080000
DTEND;TZID=America/Chicago:20280123T090000
DTSTAMP:20260421T124657
CREATED:20260123T173335Z
LAST-MODIFIED:20260420T181820Z
UID:10001329-1832227200-1832230800@parkridgeumc.org
SUMMARY:8AM Adult Sunday School
DESCRIPTION:
URL:https://parkridgeumc.org/event/8am-adult-sunday-school-108/
LOCATION:First UMC-1-Library (20)
CATEGORIES:Learning
END:VEVENT
BEGIN:VEVENT
DTSTART;TZID=America/Chicago:20280126T190000
DTEND;TZID=America/Chicago:20280126T201500
DTSTAMP:20260421T124657
CREATED:20260317T193336Z
LAST-MODIFIED:20260420T181820Z
UID:10001564-1832526000-1832530500@parkridgeumc.org
SUMMARY:Popcorn Theology Video Discussion
DESCRIPTION:Learning: Fourth Wednesday Popcorn Theology Video DiscussionDate: Wednesday\, April 22Time: 7:00–8:15 pmLocation: LibraryContact with Questions: Pastor Scott (shimel@parkridgeumc.org)Pastor Scott hosts a monthly discussion about a wide variety of theological topics that relate to our everyday lives. The group watches a video of theologians and other speakers presenting on a given topic\, then everyone discusses afterward. There’s also lots of popcorn!
URL:https://parkridgeumc.org/event/popcorn-theology-video-discussion-43/
LOCATION:First UMC-1-Library (20)
CATEGORIES:Learning
END:VEVENT
BEGIN:VEVENT
DTSTART;TZID=America/Chicago:20280130T080000
DTEND;TZID=America/Chicago:20280130T090000
DTSTAMP:20260421T124657
CREATED:20260130T173319Z
LAST-MODIFIED:20260420T181820Z
UID:10001382-1832832000-1832835600@parkridgeumc.org
SUMMARY:8AM Adult Sunday School
DESCRIPTION:
URL:https://parkridgeumc.org/event/8am-adult-sunday-school-109/
LOCATION:First UMC-1-Library (20)
CATEGORIES:Learning
END:VEVENT
BEGIN:VEVENT
DTSTART;TZID=America/Chicago:20280206T080000
DTEND;TZID=America/Chicago:20280206T090000
DTSTAMP:20260421T124657
CREATED:20260206T174831Z
LAST-MODIFIED:20260420T181820Z
UID:10001403-1833436800-1833440400@parkridgeumc.org
SUMMARY:8AM Adult Sunday School
DESCRIPTION:
URL:https://parkridgeumc.org/event/8am-adult-sunday-school-110/
LOCATION:First UMC-1-Library (20)
CATEGORIES:Learning
END:VEVENT
BEGIN:VEVENT
DTSTART;TZID=America/Chicago:20280213T080000
DTEND;TZID=America/Chicago:20280213T090000
DTSTAMP:20260421T124657
CREATED:20260213T174817Z
LAST-MODIFIED:20260420T181820Z
UID:10001429-1834041600-1834045200@parkridgeumc.org
SUMMARY:8AM Adult Sunday School
DESCRIPTION:
URL:https://parkridgeumc.org/event/8am-adult-sunday-school-111/
LOCATION:First UMC-1-Library (20)
CATEGORIES:Learning
END:VEVENT
BEGIN:VEVENT
DTSTART;TZID=America/Chicago:20280220T080000
DTEND;TZID=America/Chicago:20280220T090000
DTSTAMP:20260421T124657
CREATED:20260220T181820Z
LAST-MODIFIED:20260420T181820Z
UID:10001459-1834646400-1834650000@parkridgeumc.org
SUMMARY:8AM Adult Sunday School
DESCRIPTION:
URL:https://parkridgeumc.org/event/8am-adult-sunday-school-112/
LOCATION:First UMC-1-Library (20)
CATEGORIES:Learning
END:VEVENT
BEGIN:VEVENT
DTSTART;TZID=America/Chicago:20280221T130000
DTEND;TZID=America/Chicago:20280221T150000
DTSTAMP:20260421T124657
CREATED:20260221T233318Z
LAST-MODIFIED:20260421T143309Z
UID:10001465-1834750800-1834758000@parkridgeumc.org
SUMMARY:Prayer Shawl
DESCRIPTION:
URL:https://parkridgeumc.org/event/prayer-shawl-52/
LOCATION:First UMC-1-Library (20)
CATEGORIES:UWFaith (Women's Ministry)
END:VEVENT
BEGIN:VEVENT
DTSTART;TZID=America/Chicago:20280221T190000
DTEND;TZID=America/Chicago:20280221T210000
DTSTAMP:20260421T124657
CREATED:20260420T230319Z
LAST-MODIFIED:20260420T230319Z
UID:10001727-1834772400-1834779600@parkridgeumc.org
SUMMARY:Trustees Meeting
DESCRIPTION:
URL:https://parkridgeumc.org/event/trustees-meeting-24/
LOCATION:First UMC-1-Library (20)
CATEGORIES:Meetings
END:VEVENT
BEGIN:VEVENT
DTSTART;TZID=America/Chicago:20280223T190000
DTEND;TZID=America/Chicago:20280223T201500
DTSTAMP:20260421T124657
CREATED:20260317T193337Z
LAST-MODIFIED:20260420T181821Z
UID:10001565-1834945200-1834949700@parkridgeumc.org
SUMMARY:Popcorn Theology Video Discussion
DESCRIPTION:Learning: Fourth Wednesday Popcorn Theology Video DiscussionDate: Wednesday\, April 22Time: 7:00–8:15 pmLocation: LibraryContact with Questions: Pastor Scott (shimel@parkridgeumc.org)Pastor Scott hosts a monthly discussion about a wide variety of theological topics that relate to our everyday lives. The group watches a video of theologians and other speakers presenting on a given topic\, then everyone discusses afterward. There’s also lots of popcorn!
URL:https://parkridgeumc.org/event/popcorn-theology-video-discussion-44/
LOCATION:First UMC-1-Library (20)
CATEGORIES:Learning
END:VEVENT
BEGIN:VEVENT
DTSTART;TZID=America/Chicago:20280227T080000
DTEND;TZID=America/Chicago:20280227T090000
DTSTAMP:20260421T124657
CREATED:20260227T183329Z
LAST-MODIFIED:20260420T181822Z
UID:10001476-1835251200-1835254800@parkridgeumc.org
SUMMARY:8AM Adult Sunday School
DESCRIPTION:
URL:https://parkridgeumc.org/event/8am-adult-sunday-school-113/
LOCATION:First UMC-1-Library (20)
CATEGORIES:Learning
END:VEVENT
BEGIN:VEVENT
DTSTART;TZID=America/Chicago:20280305T080000
DTEND;TZID=America/Chicago:20280305T090000
DTSTAMP:20260421T124657
CREATED:20260305T190455Z
LAST-MODIFIED:20260420T181823Z
UID:10001517-1835856000-1835859600@parkridgeumc.org
SUMMARY:8AM Adult Sunday School
DESCRIPTION:
URL:https://parkridgeumc.org/event/8am-adult-sunday-school-114/
LOCATION:First UMC-1-Library (20)
CATEGORIES:Learning
END:VEVENT
BEGIN:VEVENT
DTSTART;TZID=America/Chicago:20280312T080000
DTEND;TZID=America/Chicago:20280312T090000
DTSTAMP:20260421T124657
CREATED:20260312T193349Z
LAST-MODIFIED:20260420T181823Z
UID:10001534-1836460800-1836464400@parkridgeumc.org
SUMMARY:8AM Adult Sunday School
DESCRIPTION:
URL:https://parkridgeumc.org/event/8am-adult-sunday-school-115/
LOCATION:First UMC-1-Library (20)
CATEGORIES:Learning
END:VEVENT
BEGIN:VEVENT
DTSTART;TZID=America/Chicago:20280319T080000
DTEND;TZID=America/Chicago:20280319T090000
DTSTAMP:20260421T124657
CREATED:20260319T193345Z
LAST-MODIFIED:20260420T181823Z
UID:10001571-1837065600-1837069200@parkridgeumc.org
SUMMARY:8AM Adult Sunday School
DESCRIPTION:
URL:https://parkridgeumc.org/event/8am-adult-sunday-school-116/
LOCATION:First UMC-1-Library (20)
CATEGORIES:Learning
END:VEVENT
BEGIN:VEVENT
DTSTART;TZID=America/Chicago:20280320T130000
DTEND;TZID=America/Chicago:20280320T150000
DTSTAMP:20260421T124657
CREATED:20260320T131921Z
LAST-MODIFIED:20260421T143310Z
UID:10001572-1837170000-1837177200@parkridgeumc.org
SUMMARY:Prayer Shawl
DESCRIPTION:
URL:https://parkridgeumc.org/event/prayer-shawl-54/
LOCATION:First UMC-1-Library (20)
CATEGORIES:UWFaith (Women's Ministry)
END:VEVENT
BEGIN:VEVENT
DTSTART;TZID=America/Chicago:20280320T190000
DTEND;TZID=America/Chicago:20280320T210000
DTSTAMP:20260421T124657
CREATED:20260420T230320Z
LAST-MODIFIED:20260420T230320Z
UID:10001728-1837191600-1837198800@parkridgeumc.org
SUMMARY:Trustees Meeting
DESCRIPTION:
URL:https://parkridgeumc.org/event/trustees-meeting-25/
LOCATION:First UMC-1-Library (20)
CATEGORIES:Meetings
END:VEVENT
BEGIN:VEVENT
DTSTART;TZID=America/Chicago:20280322T190000
DTEND;TZID=America/Chicago:20280322T201500
DTSTAMP:20260421T124657
CREATED:20260323T194831Z
LAST-MODIFIED:20260420T181823Z
UID:10001583-1837364400-1837368900@parkridgeumc.org
SUMMARY:Popcorn Theology Video Discussion
DESCRIPTION:Learning: Fourth Wednesday Popcorn Theology Video DiscussionDate: Wednesday\, April 22Time: 7:00–8:15 pmLocation: LibraryContact with Questions: Pastor Scott (shimel@parkridgeumc.org)Pastor Scott hosts a monthly discussion about a wide variety of theological topics that relate to our everyday lives. The group watches a video of theologians and other speakers presenting on a given topic\, then everyone discusses afterward. There’s also lots of popcorn!
URL:https://parkridgeumc.org/event/popcorn-theology-video-discussion-45/
LOCATION:First UMC-1-Library (20)
CATEGORIES:Learning
END:VEVENT
BEGIN:VEVENT
DTSTART;TZID=America/Chicago:20280326T080000
DTEND;TZID=America/Chicago:20280326T090000
DTSTAMP:20260421T124657
CREATED:20260326T200330Z
LAST-MODIFIED:20260420T181823Z
UID:10001595-1837670400-1837674000@parkridgeumc.org
SUMMARY:8AM Adult Sunday School
DESCRIPTION:
URL:https://parkridgeumc.org/event/8am-adult-sunday-school-117/
LOCATION:First UMC-1-Library (20)
CATEGORIES:Learning
END:VEVENT
BEGIN:VEVENT
DTSTART;TZID=America/Chicago:20280402T080000
DTEND;TZID=America/Chicago:20280402T090000
DTSTAMP:20260421T124657
CREATED:20260402T204820Z
LAST-MODIFIED:20260420T181823Z
UID:10001615-1838275200-1838278800@parkridgeumc.org
SUMMARY:8AM Adult Sunday School
DESCRIPTION:
URL:https://parkridgeumc.org/event/8am-adult-sunday-school-118/
LOCATION:First UMC-1-Library (20)
CATEGORIES:Learning
END:VEVENT
BEGIN:VEVENT
DTSTART;TZID=America/Chicago:20280409T080000
DTEND;TZID=America/Chicago:20280409T090000
DTSTAMP:20260421T124657
CREATED:20260409T214832Z
LAST-MODIFIED:20260420T181824Z
UID:10001683-1838880000-1838883600@parkridgeumc.org
SUMMARY:8AM Adult Sunday School
DESCRIPTION:
URL:https://parkridgeumc.org/event/8am-adult-sunday-school-119/
LOCATION:First UMC-1-Library (20)
CATEGORIES:Learning
END:VEVENT
END:VCALENDAR