BEGIN:VCALENDAR
VERSION:2.0
PRODID:-//First United Methodist Church of Park Ridge - ECPv6.15.20//NONSGML v1.0//EN
CALSCALE:GREGORIAN
METHOD:PUBLISH
X-WR-CALNAME:First United Methodist Church of Park Ridge
X-ORIGINAL-URL:https://parkridgeumc.org
X-WR-CALDESC:Events for First United Methodist Church of Park Ridge
REFRESH-INTERVAL;VALUE=DURATION:PT1H
X-Robots-Tag:noindex
X-PUBLISHED-TTL:PT1H
BEGIN:VTIMEZONE
TZID:America/Chicago
BEGIN:DAYLIGHT
TZOFFSETFROM:-0600
TZOFFSETTO:-0500
TZNAME:CDT
DTSTART:20260308T080000
END:DAYLIGHT
BEGIN:STANDARD
TZOFFSETFROM:-0500
TZOFFSETTO:-0600
TZNAME:CST
DTSTART:20261101T070000
END:STANDARD
BEGIN:DAYLIGHT
TZOFFSETFROM:-0600
TZOFFSETTO:-0500
TZNAME:CDT
DTSTART:20270314T080000
END:DAYLIGHT
BEGIN:STANDARD
TZOFFSETFROM:-0500
TZOFFSETTO:-0600
TZNAME:CST
DTSTART:20271107T070000
END:STANDARD
BEGIN:DAYLIGHT
TZOFFSETFROM:-0600
TZOFFSETTO:-0500
TZNAME:CDT
DTSTART:20280312T080000
END:DAYLIGHT
BEGIN:STANDARD
TZOFFSETFROM:-0500
TZOFFSETTO:-0600
TZNAME:CST
DTSTART:20281105T070000
END:STANDARD
END:VTIMEZONE
BEGIN:VEVENT
DTSTART;TZID=America/Chicago:20270523T080000
DTEND;TZID=America/Chicago:20270523T090000
DTSTAMP:20260421T033613
CREATED:20251231T170101Z
LAST-MODIFIED:20260420T181813Z
UID:10000311-1811059200-1811062800@parkridgeumc.org
SUMMARY:8AM Adult Sunday School
DESCRIPTION:
URL:https://parkridgeumc.org/event/8am-adult-sunday-school-73/
LOCATION:First UMC-1-Library (20)
CATEGORIES:Learning
END:VEVENT
BEGIN:VEVENT
DTSTART;TZID=America/Chicago:20270523T093000
DTEND;TZID=America/Chicago:20270523T103000
DTSTAMP:20260421T033613
CREATED:20251231T155650Z
LAST-MODIFIED:20260420T133325Z
UID:10000177-1811064600-1811068200@parkridgeumc.org
SUMMARY:Worship Service
DESCRIPTION:
URL:https://parkridgeumc.org/event/worship-service-73/
LOCATION:First UMC-1-Sanctuary (160)
CATEGORIES:Worship
END:VEVENT
BEGIN:VEVENT
DTSTART;TZID=America/Chicago:20270523T093000
DTEND;TZID=America/Chicago:20270523T103000
DTSTAMP:20260421T033613
CREATED:20251231T170235Z
LAST-MODIFIED:20260420T174826Z
UID:10000450-1811064600-1811068200@parkridgeumc.org
SUMMARY:Children's Sunday School
DESCRIPTION:
URL:https://parkridgeumc.org/event/childrens-sunday-school-72/
CATEGORIES:All Ages Ministries
END:VEVENT
BEGIN:VEVENT
DTSTART;TZID=America/Chicago:20270523T150000
DTEND;TZID=America/Chicago:20270523T180000
DTSTAMP:20260421T033613
CREATED:20251231T170707Z
LAST-MODIFIED:20260411T221900Z
UID:10000736-1811084400-1811095200@parkridgeumc.org
SUMMARY:Sunday Night Suppers
DESCRIPTION:
URL:https://parkridgeumc.org/event/sunday-night-suppers-74/
LOCATION:First UMC-1-Jorgeson Hall (60)
CATEGORIES:Service
END:VEVENT
BEGIN:VEVENT
DTSTART;TZID=America/Chicago:20270524T110000
DTEND;TZID=America/Chicago:20270524T114500
DTSTAMP:20260421T033613
CREATED:20251231T170511Z
LAST-MODIFIED:20260420T230310Z
UID:10000606-1811156400-1811159100@parkridgeumc.org
SUMMARY:Staff Meeting
DESCRIPTION:
URL:https://parkridgeumc.org/event/staff-meeting-73/
LOCATION:Amy’s Office
CATEGORIES:Meetings
END:VEVENT
BEGIN:VEVENT
DTSTART;TZID=America/Chicago:20270524T110000
DTEND;TZID=America/Chicago:20270524T130000
DTSTAMP:20260421T033614
CREATED:20260402T204907Z
LAST-MODIFIED:20260420T173341Z
UID:10001637-1811156400-1811163600@parkridgeumc.org
SUMMARY:German Club
DESCRIPTION:
URL:https://parkridgeumc.org/event/german-club-17/
LOCATION:First UMC-1-Room 101 (20)
CATEGORIES:Space Sharing
END:VEVENT
BEGIN:VEVENT
DTSTART;TZID=America/Chicago:20270524T193000
DTEND;TZID=America/Chicago:20270524T210000
DTSTAMP:20260421T033614
CREATED:20260402T204907Z
LAST-MODIFIED:20260420T173341Z
UID:10001638-1811187000-1811192400@parkridgeumc.org
SUMMARY:Families Anonymous
DESCRIPTION:
URL:https://parkridgeumc.org/event/families-anonymous-73/
LOCATION:First UMC-1-Parlor (60)
CATEGORIES:Space Sharing
END:VEVENT
BEGIN:VEVENT
DTSTART;TZID=America/Chicago:20270525T173000
DTEND;TZID=America/Chicago:20270525T190000
DTSTAMP:20260421T033614
CREATED:20260402T204907Z
LAST-MODIFIED:20260420T173341Z
UID:10001639-1811266200-1811271600@parkridgeumc.org
SUMMARY:Jazzercise
DESCRIPTION:
URL:https://parkridgeumc.org/event/jazzercise-140/
LOCATION:First UMC-1-Jorgeson Hall (60)
CATEGORIES:Space Sharing
END:VEVENT
BEGIN:VEVENT
DTSTART;TZID=America/Chicago:20270525T190000
DTEND;TZID=America/Chicago:20270525T210000
DTSTAMP:20260421T033614
CREATED:20260129T211807Z
LAST-MODIFIED:20260420T143259Z
UID:10001372-1811271600-1811278800@parkridgeumc.org
SUMMARY:Susanna Circle
DESCRIPTION:
URL:https://parkridgeumc.org/event/susanna-circle-16/
CATEGORIES:UWFaith (Women's Ministry)
END:VEVENT
BEGIN:VEVENT
DTSTART;TZID=America/Chicago:20270526T184500
DTEND;TZID=America/Chicago:20270526T204500
DTSTAMP:20260421T033614
CREATED:20260402T204908Z
LAST-MODIFIED:20260420T173342Z
UID:10001640-1811357100-1811364300@parkridgeumc.org
SUMMARY:Center of Concern Board Meeting
DESCRIPTION:
URL:https://parkridgeumc.org/event/center-of-concern-board-meeting-17/
LOCATION:First UMC-1-Parlor (60)
CATEGORIES:Space Sharing
END:VEVENT
BEGIN:VEVENT
DTSTART;TZID=America/Chicago:20270526T190000
DTEND;TZID=America/Chicago:20270526T201500
DTSTAMP:20260421T033614
CREATED:20260317T193324Z
LAST-MODIFIED:20260420T181813Z
UID:10001556-1811358000-1811362500@parkridgeumc.org
SUMMARY:Popcorn Theology Video Discussion
DESCRIPTION:Learning: Fourth Wednesday Popcorn Theology Video DiscussionDate: Wednesday\, April 22Time: 7:00–8:15 pmLocation: LibraryContact with Questions: Pastor Scott (shimel@parkridgeumc.org)Pastor Scott hosts a monthly discussion about a wide variety of theological topics that relate to our everyday lives. The group watches a video of theologians and other speakers presenting on a given topic\, then everyone discusses afterward. There’s also lots of popcorn!
URL:https://parkridgeumc.org/event/popcorn-theology-video-discussion-35/
LOCATION:First UMC-1-Library (20)
CATEGORIES:Learning
END:VEVENT
BEGIN:VEVENT
DTSTART;TZID=America/Chicago:20270527T190000
DTEND;TZID=America/Chicago:20270527T210000
DTSTAMP:20260421T033614
CREATED:20260402T204908Z
LAST-MODIFIED:20260420T173342Z
UID:10001641-1811444400-1811451600@parkridgeumc.org
SUMMARY:Toastmasters
DESCRIPTION:
URL:https://parkridgeumc.org/event/toastmasters-34/
LOCATION:First UMC-1-Parlor (60)
CATEGORIES:Space Sharing
END:VEVENT
BEGIN:VEVENT
DTSTART;TZID=America/Chicago:20270527T193000
DTEND;TZID=America/Chicago:20270527T210000
DTSTAMP:20260421T033614
CREATED:20260402T204908Z
LAST-MODIFIED:20260420T173342Z
UID:10001642-1811446200-1811451600@parkridgeumc.org
SUMMARY:Al-Anon
DESCRIPTION:
URL:https://parkridgeumc.org/event/al-anon-74/
LOCATION:First UMC-1-Room 101 (20)
CATEGORIES:Space Sharing
END:VEVENT
END:VCALENDAR