BEGIN:VCALENDAR
VERSION:2.0
PRODID:-//First United Methodist Church of Park Ridge - ECPv6.15.20//NONSGML v1.0//EN
CALSCALE:GREGORIAN
METHOD:PUBLISH
X-WR-CALNAME:First United Methodist Church of Park Ridge
X-ORIGINAL-URL:https://parkridgeumc.org
X-WR-CALDESC:Events for First United Methodist Church of Park Ridge
REFRESH-INTERVAL;VALUE=DURATION:PT1H
X-Robots-Tag:noindex
X-PUBLISHED-TTL:PT1H
BEGIN:VTIMEZONE
TZID:America/Chicago
BEGIN:DAYLIGHT
TZOFFSETFROM:-0600
TZOFFSETTO:-0500
TZNAME:CDT
DTSTART:20250309T080000
END:DAYLIGHT
BEGIN:STANDARD
TZOFFSETFROM:-0500
TZOFFSETTO:-0600
TZNAME:CST
DTSTART:20251102T070000
END:STANDARD
BEGIN:DAYLIGHT
TZOFFSETFROM:-0600
TZOFFSETTO:-0500
TZNAME:CDT
DTSTART:20260308T080000
END:DAYLIGHT
BEGIN:STANDARD
TZOFFSETFROM:-0500
TZOFFSETTO:-0600
TZNAME:CST
DTSTART:20261101T070000
END:STANDARD
BEGIN:DAYLIGHT
TZOFFSETFROM:-0600
TZOFFSETTO:-0500
TZNAME:CDT
DTSTART:20270314T080000
END:DAYLIGHT
BEGIN:STANDARD
TZOFFSETFROM:-0500
TZOFFSETTO:-0600
TZNAME:CST
DTSTART:20271107T070000
END:STANDARD
END:VTIMEZONE
BEGIN:VEVENT
DTSTART;TZID=America/Chicago:20260528T190000
DTEND;TZID=America/Chicago:20260528T210000
DTSTAMP:20260422T175818
CREATED:20251231T171046Z
LAST-MODIFIED:20260422T173259Z
UID:10000942-1779994800-1780002000@parkridgeumc.org
SUMMARY:Toastmasters
DESCRIPTION:
URL:https://parkridgeumc.org/event/toastmasters-10/
LOCATION:First UMC-1-Parlor (60)
CATEGORIES:Space Sharing
END:VEVENT
BEGIN:VEVENT
DTSTART;TZID=America/Chicago:20260528T180000
DTEND;TZID=America/Chicago:20260528T200000
DTSTAMP:20260422T175818
CREATED:20260129T211801Z
LAST-MODIFIED:20260422T143254Z
UID:10001360-1779991200-1779998400@parkridgeumc.org
SUMMARY:Naomi-Lydia Circle
DESCRIPTION:
URL:https://parkridgeumc.org/event/naomi-lydia-circle-3/
LOCATION:At a restaurant
CATEGORIES:UWFaith (Women's Ministry)
END:VEVENT
BEGIN:VEVENT
DTSTART;TZID=America/Chicago:20260527T190000
DTEND;TZID=America/Chicago:20260527T201500
DTSTAMP:20260422T175818
CREATED:20260317T193302Z
LAST-MODIFIED:20260422T181810Z
UID:10001544-1779908400-1779912900@parkridgeumc.org
SUMMARY:Popcorn Theology Video Discussion
DESCRIPTION:Learning: Fourth Wednesday Popcorn Theology Video Discussion \nDate: Wednesday\, May 27\nTime: 7:00–8:15 pm\nLocation: Library\nContact with Questions: Pastor Scott (shimel@parkridgeumc.org)\nThis Month’s Topic: The Impact and Importance of Intergenerational Ministry\nPastor Scott hosts a monthly discussion about a wide variety of theological topics that relate to our everyday lives. The group watches a video of theologians and other speakers presenting on a given topic\, then everyone discusses afterward. There’s also lots of popcorn!
URL:https://parkridgeumc.org/event/popcorn-theology-video-discussion-25/
LOCATION:First UMC-1-Library (20)
CATEGORIES:Learning
END:VEVENT
BEGIN:VEVENT
DTSTART;TZID=America/Chicago:20260527T184500
DTEND;TZID=America/Chicago:20260527T204500
DTSTAMP:20260422T175819
CREATED:20251231T171045Z
LAST-MODIFIED:20260422T173259Z
UID:10000940-1779907500-1779914700@parkridgeumc.org
SUMMARY:Center of Concern Board Meeting
DESCRIPTION:
URL:https://parkridgeumc.org/event/center-of-concern-board-meeting-5/
LOCATION:First UMC-1-Parlor (60)
CATEGORIES:Space Sharing
END:VEVENT
BEGIN:VEVENT
DTSTART;TZID=America/Chicago:20260526T190000
DTEND;TZID=America/Chicago:20260526T210000
DTSTAMP:20260422T175819
CREATED:20260129T211800Z
LAST-MODIFIED:20260422T143254Z
UID:10001359-1779822000-1779829200@parkridgeumc.org
SUMMARY:Susanna Circle
DESCRIPTION:
URL:https://parkridgeumc.org/event/susanna-circle-4/
CATEGORIES:UWFaith (Women's Ministry)
END:VEVENT
BEGIN:VEVENT
DTSTART;TZID=America/Chicago:20260526T173000
DTEND;TZID=America/Chicago:20260526T190000
DTSTAMP:20260422T175819
CREATED:20251231T171045Z
LAST-MODIFIED:20260422T173259Z
UID:10000938-1779816600-1779822000@parkridgeumc.org
SUMMARY:Jazzercise
DESCRIPTION:
URL:https://parkridgeumc.org/event/jazzercise-41/
LOCATION:First UMC-1-Jorgeson Hall (60)
CATEGORIES:Space Sharing
END:VEVENT
BEGIN:VEVENT
DTSTART;TZID=America/Chicago:20260525T193000
DTEND;TZID=America/Chicago:20260525T210000
DTSTAMP:20260422T175819
CREATED:20251231T171045Z
LAST-MODIFIED:20260422T173259Z
UID:10000937-1779737400-1779742800@parkridgeumc.org
SUMMARY:Families Anonymous
DESCRIPTION:
URL:https://parkridgeumc.org/event/families-anonymous-21/
LOCATION:First UMC-1-Parlor (60)
CATEGORIES:Space Sharing
END:VEVENT
BEGIN:VEVENT
DTSTART;TZID=America/Chicago:20260525T110000
DTEND;TZID=America/Chicago:20260525T130000
DTSTAMP:20260422T175819
CREATED:20251231T171045Z
LAST-MODIFIED:20260422T173259Z
UID:10000936-1779706800-1779714000@parkridgeumc.org
SUMMARY:German Club
DESCRIPTION:
URL:https://parkridgeumc.org/event/german-club-5/
LOCATION:First UMC-1-Room 101 (20)
CATEGORIES:Space Sharing
END:VEVENT
BEGIN:VEVENT
DTSTART;TZID=America/Chicago:20260525T110000
DTEND;TZID=America/Chicago:20260525T114500
DTSTAMP:20260422T175819
CREATED:20251231T170458Z
LAST-MODIFIED:20260421T230258Z
UID:10000528-1779706800-1779709500@parkridgeumc.org
SUMMARY:Staff Meeting
DESCRIPTION:
URL:https://parkridgeumc.org/event/staff-meeting-21/
LOCATION:Amy’s Office
CATEGORIES:Meetings
END:VEVENT
BEGIN:VEVENT
DTSTART;TZID=America/Chicago:20260524T110000
DTEND;TZID=America/Chicago:20260524T170000
DTSTAMP:20260422T175819
CREATED:20260203T200302Z
LAST-MODIFIED:20260422T180304Z
UID:10001395-1779620400-1779642000@parkridgeumc.org
SUMMARY:? Confirmation Class Six Flags Party
DESCRIPTION:
URL:https://parkridgeumc.org/event/confirmation-class-six-flags-party-2/
LOCATION:Six Flags Great America\n1 Great America Pkwy\nGurnee IL 60031\nUnited States
CATEGORIES:All Ages Ministries
END:VEVENT
BEGIN:VEVENT
DTSTART;TZID=America/Chicago:20260524T110000
DTEND;TZID=America/Chicago:20260524T140000
DTSTAMP:20260422T175819
CREATED:20260421T193255Z
LAST-MODIFIED:20260422T193303Z
UID:10001731-1779620400-1779631200@parkridgeumc.org
SUMMARY:It's Spring! Let's Walk in the Woods!
DESCRIPTION:Social: It’s Spring! Let’s Walk in the Woods! \nDate: Saturday\, May 24\, 2026Time: Leave First UMC 11:00 am / step into Glenview Woods 11:30 am (walk ends approx. 1:30–2:00 pm)Location: Glenview Woods\, 701 Glenview Rd.\, GlenviewRSVP: Required — maximum 25 participants (Forest Preserve rules)Contact with Questions: Marcia Kittler — marcia.kittler@gmail.com or 773-329-3907 \nLet’s walk through Glenview Woods\, a pristine and beautiful Illinois Nature Preserve. See spring wildflowers and explore a glacial land formation. Marcia Kittler\, Illinois Extension Master Naturalist\, will be our guide. The first part of our walk will be on a lovely\, paved riverside trail\, and the second part will be up a small hill on a flowery\, unpaved trail. Feel free to bring a lawn chair\, water\, and brown bag lunch and enjoy some fellowship afterwards. Please wear weather-appropriate clothing and footwear with traction; skin protection is recommended. If there is light precipitation\, we will walk through sprinkles — heavier weather may require a change of plans. \nEvent ID: EVT-0879
URL:https://parkridgeumc.org/event/its-spring-lets-walk-in-the-woods/
LOCATION:Glenview Woods\, 701 Glenview Rd\, Glenview\, IL\, United States
CATEGORIES:Social
GEO:42.068997;-87.777276
X-APPLE-STRUCTURED-LOCATION;VALUE=URI;X-ADDRESS=Glenview Woods 701 Glenview Rd Glenview IL United States;X-APPLE-RADIUS=500;X-TITLE=701 Glenview Rd:geo:-87.777276,42.068997
END:VEVENT
BEGIN:VEVENT
DTSTART;TZID=America/Chicago:20260524T093000
DTEND;TZID=America/Chicago:20260524T103000
DTSTAMP:20260422T175819
CREATED:20251231T170225Z
LAST-MODIFIED:20260422T180303Z
UID:10000382-1779615000-1779618600@parkridgeumc.org
SUMMARY:Children's Sunday School
DESCRIPTION:
URL:https://parkridgeumc.org/event/childrens-sunday-school-20/
CATEGORIES:All Ages Ministries
END:VEVENT
BEGIN:VEVENT
DTSTART;TZID=America/Chicago:20260524T093000
DTEND;TZID=America/Chicago:20260524T103000
DTSTAMP:20260422T175819
CREATED:20251231T155639Z
LAST-MODIFIED:20260422T133255Z
UID:10000109-1779615000-1779618600@parkridgeumc.org
SUMMARY:Worship Service
DESCRIPTION:
URL:https://parkridgeumc.org/event/worship-service-21/
LOCATION:First UMC-1-Sanctuary (160)
CATEGORIES:Worship
END:VEVENT
BEGIN:VEVENT
DTSTART;TZID=America/Chicago:20260524T080000
DTEND;TZID=America/Chicago:20260524T090000
DTSTAMP:20260422T175819
CREATED:20251231T170050Z
LAST-MODIFIED:20260422T181810Z
UID:10000245-1779609600-1779613200@parkridgeumc.org
SUMMARY:8AM Adult Sunday School
DESCRIPTION:
URL:https://parkridgeumc.org/event/8am-adult-sunday-school-21/
LOCATION:First UMC-1-Library (20)
CATEGORIES:Learning
END:VEVENT
BEGIN:VEVENT
DTSTART;TZID=America/Chicago:20260521T193000
DTEND;TZID=America/Chicago:20260521T210000
DTSTAMP:20260422T175819
CREATED:20251231T171045Z
LAST-MODIFIED:20260422T173259Z
UID:10000934-1779391800-1779397200@parkridgeumc.org
SUMMARY:Al-Anon
DESCRIPTION:
URL:https://parkridgeumc.org/event/al-anon-21/
LOCATION:First UMC-1-Room 101 (20)
CATEGORIES:Space Sharing
END:VEVENT
BEGIN:VEVENT
DTSTART;TZID=America/Chicago:20260521T190000
DTEND;TZID=America/Chicago:20260521T203000
DTSTAMP:20260422T175819
CREATED:20260128T141837Z
LAST-MODIFIED:20260421T230258Z
UID:10001342-1779390000-1779395400@parkridgeumc.org
SUMMARY:Ad Council Meeting
DESCRIPTION:
URL:https://parkridgeumc.org/event/ad-council-meeting-3/
LOCATION:First UMC-1-Library (20)
CATEGORIES:Meetings
END:VEVENT
BEGIN:VEVENT
DTSTART;TZID=America/Chicago:20260521T083000
DTEND;TZID=America/Chicago:20260521T140000
DTSTAMP:20260422T175819
CREATED:20251231T171044Z
LAST-MODIFIED:20260422T173258Z
UID:10000933-1779352200-1779372000@parkridgeumc.org
SUMMARY:DCOM
DESCRIPTION:
URL:https://parkridgeumc.org/event/dcom-6/
LOCATION:First UMC-1-Jorgeson Hall (60)
CATEGORIES:Space Sharing
END:VEVENT
BEGIN:VEVENT
DTSTART;TZID=America/Chicago:20260520T180000
DTEND;TZID=America/Chicago:20260520T193000
DTSTAMP:20260422T175819
CREATED:20251231T170921Z
LAST-MODIFIED:20260422T193303Z
UID:10000773-1779300000-1779305400@parkridgeumc.org
SUMMARY:Third Wednesday Dinners
DESCRIPTION:Social: Third Wednesday Dinners \n \nNext date: Wednesday\, May 20Start Time: 6:00 pmLocation: ParlorWhat to Bring: Please bring your own one-person mealContact with Questions: Rocky Daehler (rdaehler@yahoo.com) or Bill Baty (billbaty@gmail.com) \nThe format is BYOOM—bring your own one-person meal. The intent is to have friendly fellowship once a month by sharing conversations\, eating together and even making new acquaintances. Plates\, glasses\, silverware\, napkins and tables are provided. All you need to bring is your own food and yourself. These meals will be held on the third Wednesday of every month.
URL:https://parkridgeumc.org/event/third-wednesday-dinners-5/
LOCATION:First UMC-1-Parlor (60)
CATEGORIES:Social
END:VEVENT
BEGIN:VEVENT
DTSTART;TZID=America/Chicago:20260519T173000
DTEND;TZID=America/Chicago:20260519T190000
DTSTAMP:20260422T175819
CREATED:20251231T171044Z
LAST-MODIFIED:20260422T173258Z
UID:10000931-1779211800-1779217200@parkridgeumc.org
SUMMARY:Jazzercise
DESCRIPTION:
URL:https://parkridgeumc.org/event/jazzercise-39/
LOCATION:First UMC-1-Jorgeson Hall (60)
CATEGORIES:Space Sharing
END:VEVENT
BEGIN:VEVENT
DTSTART;TZID=America/Chicago:20260518T193000
DTEND;TZID=America/Chicago:20260518T210000
DTSTAMP:20260422T175819
CREATED:20251231T171044Z
LAST-MODIFIED:20260422T173258Z
UID:10000930-1779132600-1779138000@parkridgeumc.org
SUMMARY:Families Anonymous
DESCRIPTION:
URL:https://parkridgeumc.org/event/families-anonymous-20/
LOCATION:First UMC-1-Parlor (60)
CATEGORIES:Space Sharing
END:VEVENT
BEGIN:VEVENT
DTSTART;TZID=America/Chicago:20260518T180000
DTEND;TZID=America/Chicago:20260518T210000
DTSTAMP:20260422T175819
CREATED:20251231T171044Z
LAST-MODIFIED:20260422T173258Z
UID:10000929-1779127200-1779138000@parkridgeumc.org
SUMMARY:Scout Court of Honor
DESCRIPTION:
URL:https://parkridgeumc.org/event/scout-court-of-honor/
LOCATION:First UMC-1-Jorgeson Hall (60)
CATEGORIES:Space Sharing
END:VEVENT
BEGIN:VEVENT
DTSTART;TZID=America/Chicago:20260518T130000
DTEND;TZID=America/Chicago:20260518T150000
DTSTAMP:20260422T175819
CREATED:20251231T171212Z
LAST-MODIFIED:20260422T143254Z
UID:10001118-1779109200-1779116400@parkridgeumc.org
SUMMARY:Prayer Shawl
DESCRIPTION:
URL:https://parkridgeumc.org/event/prayer-shawl-10/
LOCATION:First UMC-1-Library (20)
CATEGORIES:UWFaith (Women's Ministry)
END:VEVENT
BEGIN:VEVENT
DTSTART;TZID=America/Chicago:20260518T110000
DTEND;TZID=America/Chicago:20260518T114500
DTSTAMP:20260422T175819
CREATED:20251231T170458Z
LAST-MODIFIED:20260421T230257Z
UID:10000526-1779102000-1779104700@parkridgeumc.org
SUMMARY:Staff Meeting
DESCRIPTION:
URL:https://parkridgeumc.org/event/staff-meeting-20/
LOCATION:Amy’s Office
CATEGORIES:Meetings
END:VEVENT
BEGIN:VEVENT
DTSTART;TZID=America/Chicago:20260517T150000
DTEND;TZID=America/Chicago:20260517T180000
DTSTAMP:20260422T175819
CREATED:20251231T170656Z
LAST-MODIFIED:20260411T221852Z
UID:10000677-1779030000-1779040800@parkridgeumc.org
SUMMARY:Sunday Night Suppers
DESCRIPTION:
URL:https://parkridgeumc.org/event/sunday-night-suppers-21/
LOCATION:First UMC-1-Jorgeson Hall (60)
CATEGORIES:Service
END:VEVENT
BEGIN:VEVENT
DTSTART;TZID=America/Chicago:20260517T103000
DTEND;TZID=America/Chicago:20260517T120000
DTSTAMP:20260422T175819
CREATED:20251231T170921Z
LAST-MODIFIED:20260422T193302Z
UID:10000772-1779013800-1779019200@parkridgeumc.org
SUMMARY:Confirmation Sunday Reception
DESCRIPTION:
URL:https://parkridgeumc.org/event/confirmation-sunday-reception/
LOCATION:First UMC-1-Parlor (60)
CATEGORIES:Social
END:VEVENT
BEGIN:VEVENT
DTSTART;TZID=America/Chicago:20260517T093000
DTEND;TZID=America/Chicago:20260517T103000
DTSTAMP:20260422T175819
CREATED:20251231T170224Z
LAST-MODIFIED:20260422T180303Z
UID:10000380-1779010200-1779013800@parkridgeumc.org
SUMMARY:Children's Sunday School
DESCRIPTION:
URL:https://parkridgeumc.org/event/childrens-sunday-school-19/
CATEGORIES:All Ages Ministries
END:VEVENT
BEGIN:VEVENT
DTSTART;TZID=America/Chicago:20260517T093000
DTEND;TZID=America/Chicago:20260517T103000
DTSTAMP:20260422T175819
CREATED:20251231T155639Z
LAST-MODIFIED:20260422T133255Z
UID:10000108-1779010200-1779013800@parkridgeumc.org
SUMMARY:Confirmation Sunday Worship
DESCRIPTION:Worship Service: Confirmation Sunday \nDate: Sunday\, May 17\nTime: 9:30 am (Worship); Snack n’ Chat immediately following in Jorgeson Hall\nLocation: Sanctuary; Snack n’ Chat in Jorgeson Hall\nContact with Questions: Pastor Scott Himel — shimel@parkridgeumc.org\nCelebrate with us as four of our young people — Zach Gaske\, Max Washburn\, Natalie Armstrong\, and Julien Butchko — confirm their faith before the congregation! After a nine-month journey of study\, reflection\, and conversation together\, our confirmands will profess their faith and remember their baptisms during worship. We’ll also hear from each of their mentors\, and the confirmands will share the projects they’ve worked on throughout the year. Following worship\, head over to Jorgeson Hall for Snack n’ Chat — a chance to greet our confirmands\, learn more about their projects\, and congratulate them on this important step in their faith journey. This is a joyful\, celebratory day for our whole church family\, and we hope you can be there to support them!
URL:https://parkridgeumc.org/event/worship-service-20/
LOCATION:First UMC-1-Sanctuary (160)
CATEGORIES:Worship
END:VEVENT
BEGIN:VEVENT
DTSTART;TZID=America/Chicago:20260517T080000
DTEND;TZID=America/Chicago:20260517T090000
DTSTAMP:20260422T175819
CREATED:20251231T170050Z
LAST-MODIFIED:20260422T181810Z
UID:10000244-1779004800-1779008400@parkridgeumc.org
SUMMARY:8AM Adult Sunday School
DESCRIPTION:
URL:https://parkridgeumc.org/event/8am-adult-sunday-school-20/
LOCATION:First UMC-1-Library (20)
CATEGORIES:Learning
END:VEVENT
BEGIN:VEVENT
DTSTART;TZID=America/Chicago:20260514T193000
DTEND;TZID=America/Chicago:20260514T210000
DTSTAMP:20260422T175819
CREATED:20251231T171044Z
LAST-MODIFIED:20260422T173258Z
UID:10000928-1778787000-1778792400@parkridgeumc.org
SUMMARY:Al-Anon
DESCRIPTION:
URL:https://parkridgeumc.org/event/al-anon-20/
LOCATION:First UMC-1-Room 101 (20)
CATEGORIES:Space Sharing
END:VEVENT
BEGIN:VEVENT
DTSTART;TZID=America/Chicago:20260514T190000
DTEND;TZID=America/Chicago:20260514T210000
DTSTAMP:20260422T175819
CREATED:20251231T171043Z
LAST-MODIFIED:20260422T173258Z
UID:10000926-1778785200-1778792400@parkridgeumc.org
SUMMARY:Toastmasters
DESCRIPTION:
URL:https://parkridgeumc.org/event/toastmasters-9/
LOCATION:First UMC-1-Parlor (60)
CATEGORIES:Space Sharing
END:VEVENT
END:VCALENDAR