BEGIN:VCALENDAR
VERSION:2.0
PRODID:-//First United Methodist Church of Park Ridge - ECPv6.15.20//NONSGML v1.0//EN
CALSCALE:GREGORIAN
METHOD:PUBLISH
X-WR-CALNAME:First United Methodist Church of Park Ridge
X-ORIGINAL-URL:https://parkridgeumc.org
X-WR-CALDESC:Events for First United Methodist Church of Park Ridge
REFRESH-INTERVAL;VALUE=DURATION:PT1H
X-Robots-Tag:noindex
X-PUBLISHED-TTL:PT1H
BEGIN:VTIMEZONE
TZID:America/Chicago
BEGIN:DAYLIGHT
TZOFFSETFROM:-0600
TZOFFSETTO:-0500
TZNAME:CDT
DTSTART:20250309T080000
END:DAYLIGHT
BEGIN:STANDARD
TZOFFSETFROM:-0500
TZOFFSETTO:-0600
TZNAME:CST
DTSTART:20251102T070000
END:STANDARD
BEGIN:DAYLIGHT
TZOFFSETFROM:-0600
TZOFFSETTO:-0500
TZNAME:CDT
DTSTART:20260308T080000
END:DAYLIGHT
BEGIN:STANDARD
TZOFFSETFROM:-0500
TZOFFSETTO:-0600
TZNAME:CST
DTSTART:20261101T070000
END:STANDARD
BEGIN:DAYLIGHT
TZOFFSETFROM:-0600
TZOFFSETTO:-0500
TZNAME:CDT
DTSTART:20270314T080000
END:DAYLIGHT
BEGIN:STANDARD
TZOFFSETFROM:-0500
TZOFFSETTO:-0600
TZNAME:CST
DTSTART:20271107T070000
END:STANDARD
END:VTIMEZONE
BEGIN:VEVENT
DTSTART;TZID=America/Chicago:20260813T090000
DTEND;TZID=America/Chicago:20260813T120000
DTSTAMP:20260425T053128
CREATED:20251231T170228Z
LAST-MODIFIED:20260424T180300Z
UID:10000404-1786611600-1786622400@parkridgeumc.org
SUMMARY:VBS 2026
DESCRIPTION:Children’s Ministry: VBS 2026 — Surprise Party! \nDate: Wednesday–Friday\, August 12–14 \nTime: 9:30 am–12:30 pm \nLocation: Jorgeson Hall \nAges: Open to children ages 5–10 \nCost: Suggested donation $20 per child — pay by check or by Zelle to finance@parkridgeumc.org; include “VBS” in the memo line \nRegistration Deadline: Monday\, June 1 \nRegister & Questions: Email Rochita Plonka — rplonka@parkridgeumc.org \nJoin us for three days of music\, skits\, games\, crafts\, and Bible adventures as we discover God’s surprising grace that includes everyone\, welcomes all\, and changes everything! Invite your friends and neighbors — all children ages 5–10 are welcome. To register your child or ask questions\, email Rochita by Monday\, June 1.
URL:https://parkridgeumc.org/event/vbs-2026-option-2-of-2-2/
LOCATION:First UMC-1-Jorgeson Hall (60)
CATEGORIES:All Ages Ministries
END:VEVENT
BEGIN:VEVENT
DTSTART;TZID=America/Chicago:20260812T090000
DTEND;TZID=America/Chicago:20260812T120000
DTSTAMP:20260425T053128
CREATED:20251231T170228Z
LAST-MODIFIED:20260424T180300Z
UID:10000403-1786525200-1786536000@parkridgeumc.org
SUMMARY:VBS 2026
DESCRIPTION:Children’s Ministry: VBS 2026 — Surprise Party! \nDate: Wednesday–Friday\, August 12–14 \nTime: 9:30 am–12:30 pm \nLocation: Jorgeson Hall \nAges: Open to children ages 5–10 \nCost: Suggested donation $20 per child — pay by check or by Zelle to finance@parkridgeumc.org; include “VBS” in the memo line \nRegistration Deadline: Monday\, June 1 \nRegister & Questions: Email Rochita Plonka — rplonka@parkridgeumc.org \nJoin us for three days of music\, skits\, games\, crafts\, and Bible adventures as we discover God’s surprising grace that includes everyone\, welcomes all\, and changes everything! Invite your friends and neighbors — all children ages 5–10 are welcome. To register your child or ask questions\, email Rochita by Monday\, June 1.
URL:https://parkridgeumc.org/event/vbs-2026-option-2-of-2/
LOCATION:First UMC-1-Jorgeson Hall (60)
CATEGORIES:All Ages Ministries
END:VEVENT
BEGIN:VEVENT
DTSTART;TZID=America/Chicago:20260811T173000
DTEND;TZID=America/Chicago:20260811T190000
DTSTAMP:20260425T053128
CREATED:20251231T171057Z
LAST-MODIFIED:20260424T174806Z
UID:10001009-1786469400-1786474800@parkridgeumc.org
SUMMARY:Jazzercise
DESCRIPTION:
URL:https://parkridgeumc.org/event/jazzercise-63/
LOCATION:First UMC-1-Jorgeson Hall (60)
CATEGORIES:Space Sharing
END:VEVENT
BEGIN:VEVENT
DTSTART;TZID=America/Chicago:20260810T193000
DTEND;TZID=America/Chicago:20260810T210000
DTSTAMP:20260425T053128
CREATED:20251231T171057Z
LAST-MODIFIED:20260424T174806Z
UID:10001008-1786390200-1786395600@parkridgeumc.org
SUMMARY:Families Anonymous
DESCRIPTION:
URL:https://parkridgeumc.org/event/families-anonymous-32/
LOCATION:First UMC-1-Parlor (60)
CATEGORIES:Space Sharing
END:VEVENT
BEGIN:VEVENT
DTSTART;TZID=America/Chicago:20260810T110000
DTEND;TZID=America/Chicago:20260810T130000
DTSTAMP:20260425T053128
CREATED:20260107T170413Z
LAST-MODIFIED:20260424T174805Z
UID:10001196-1786359600-1786366800@parkridgeumc.org
SUMMARY:German Club - 101
DESCRIPTION:
URL:https://parkridgeumc.org/event/german-club-101-19/
LOCATION:First UMC-1-Room 101 (20)
CATEGORIES:Space Sharing
END:VEVENT
BEGIN:VEVENT
DTSTART;TZID=America/Chicago:20260810T110000
DTEND;TZID=America/Chicago:20260810T130000
DTSTAMP:20260425T053128
CREATED:20251231T171056Z
LAST-MODIFIED:20260106T053345Z
UID:10001007-1786359600-1786366800@parkridgeumc.org
SUMMARY:German Club - 101
DESCRIPTION:
URL:https://parkridgeumc.org/event/german-club-101-8/
CATEGORIES:Space Sharing
END:VEVENT
BEGIN:VEVENT
DTSTART;TZID=America/Chicago:20260810T110000
DTEND;TZID=America/Chicago:20260810T114500
DTSTAMP:20260425T053128
CREATED:20251231T170502Z
LAST-MODIFIED:20260424T230259Z
UID:10000546-1786359600-1786362300@parkridgeumc.org
SUMMARY:Staff Meeting
DESCRIPTION:
URL:https://parkridgeumc.org/event/staff-meeting-32/
LOCATION:Amy’s Office
CATEGORIES:Meetings
END:VEVENT
BEGIN:VEVENT
DTSTART;TZID=America/Chicago:20260810T090000
DTEND;TZID=America/Chicago:20260810T120000
DTSTAMP:20260425T053128
CREATED:20260107T170413Z
LAST-MODIFIED:20260424T174805Z
UID:10001197-1786352400-1786363200@parkridgeumc.org
SUMMARY:PEO
DESCRIPTION:
URL:https://parkridgeumc.org/event/peo-16/
LOCATION:First UMC-1-Library (20)
CATEGORIES:Space Sharing
END:VEVENT
BEGIN:VEVENT
DTSTART;TZID=America/Chicago:20260810T090000
DTEND;TZID=America/Chicago:20260810T120000
DTSTAMP:20260425T053128
CREATED:20251231T171056Z
LAST-MODIFIED:20260106T053345Z
UID:10001006-1786352400-1786363200@parkridgeumc.org
SUMMARY:PEO
DESCRIPTION:
URL:https://parkridgeumc.org/event/peo-7/
LOCATION:First UMC-1-Parlor (60)
CATEGORIES:Space Sharing
END:VEVENT
BEGIN:VEVENT
DTSTART;TZID=America/Chicago:20260809T104500
DTEND;TZID=America/Chicago:20260809T120000
DTSTAMP:20260425T053128
CREATED:20251231T170659Z
LAST-MODIFIED:20260411T221853Z
UID:10000690-1786272300-1786276800@parkridgeumc.org
SUMMARY:Packing of the backpacks for Kids Above All
DESCRIPTION:
URL:https://parkridgeumc.org/event/packing-of-the-backpacks-for-kids-above-all/
LOCATION:First UMC-1-Jorgeson Hall (60)
CATEGORIES:Service
END:VEVENT
BEGIN:VEVENT
DTSTART;TZID=America/Chicago:20260809T093000
DTEND;TZID=America/Chicago:20260809T103000
DTSTAMP:20260425T053128
CREATED:20251231T170228Z
LAST-MODIFIED:20260424T180300Z
UID:10000402-1786267800-1786271400@parkridgeumc.org
SUMMARY:Children's Sunday School
DESCRIPTION:
URL:https://parkridgeumc.org/event/childrens-sunday-school-31/
CATEGORIES:All Ages Ministries
END:VEVENT
BEGIN:VEVENT
DTSTART;TZID=America/Chicago:20260809T093000
DTEND;TZID=America/Chicago:20260809T103000
DTSTAMP:20260425T053128
CREATED:20251231T155642Z
LAST-MODIFIED:20260424T133305Z
UID:10000124-1786267800-1786271400@parkridgeumc.org
SUMMARY:Worship Service
DESCRIPTION:
URL:https://parkridgeumc.org/event/worship-service-32/
LOCATION:First UMC-1-Sanctuary (160)
CATEGORIES:Worship
END:VEVENT
BEGIN:VEVENT
DTSTART;TZID=America/Chicago:20260809T080000
DTEND;TZID=America/Chicago:20260809T090000
DTSTAMP:20260425T053128
CREATED:20251231T170053Z
LAST-MODIFIED:20260424T183348Z
UID:10000259-1786262400-1786266000@parkridgeumc.org
SUMMARY:8AM Adult Sunday School
DESCRIPTION:
URL:https://parkridgeumc.org/event/8am-adult-sunday-school-32/
LOCATION:First UMC-1-Library (20)
CATEGORIES:Learning
END:VEVENT
BEGIN:VEVENT
DTSTART;TZID=America/Chicago:20260807T180000
DTEND;TZID=America/Chicago:20260807T200000
DTSTAMP:20260425T053128
CREATED:20260214T221806Z
LAST-MODIFIED:20260424T183313Z
UID:10001450-1786125600-1786132800@parkridgeumc.org
SUMMARY:Concerts in the Park
DESCRIPTION:
URL:https://parkridgeumc.org/event/concerts-in-the-park-11/
CATEGORIES:Outside Organizations
END:VEVENT
BEGIN:VEVENT
DTSTART;TZID=America/Chicago:20260807T093000
DTEND;TZID=America/Chicago:20260807T103000
DTSTAMP:20260425T053128
CREATED:20260423T181802Z
LAST-MODIFIED:20260424T183313Z
UID:10001759-1786095000-1786098600@parkridgeumc.org
SUMMARY:Jazzercise
DESCRIPTION:
URL:https://parkridgeumc.org/event/jazzercise-172/
CATEGORIES:Outside Organizations
END:VEVENT
BEGIN:VEVENT
DTSTART;TZID=America/Chicago:20260806T193000
DTEND;TZID=America/Chicago:20260806T210000
DTSTAMP:20260425T053128
CREATED:20251231T171056Z
LAST-MODIFIED:20260424T174805Z
UID:10001005-1786044600-1786050000@parkridgeumc.org
SUMMARY:Al-Anon
DESCRIPTION:
URL:https://parkridgeumc.org/event/al-anon-32/
LOCATION:First UMC-1-Room 101 (20)
CATEGORIES:Space Sharing
END:VEVENT
BEGIN:VEVENT
DTSTART;TZID=America/Chicago:20260805T093000
DTEND;TZID=America/Chicago:20260805T103000
DTSTAMP:20260425T053128
CREATED:20260423T181801Z
LAST-MODIFIED:20260424T183313Z
UID:10001758-1785922200-1785925800@parkridgeumc.org
SUMMARY:Jazzercise
DESCRIPTION:
URL:https://parkridgeumc.org/event/jazzercise-171/
CATEGORIES:Outside Organizations
END:VEVENT
BEGIN:VEVENT
DTSTART;TZID=America/Chicago:20260804T190000
DTEND;TZID=America/Chicago:20260804T194500
DTSTAMP:20260425T053128
CREATED:20251231T155641Z
LAST-MODIFIED:20260424T133305Z
UID:10000123-1785870000-1785872700@parkridgeumc.org
SUMMARY:Peace Vigil
DESCRIPTION:Worship and Learning: First Tuesday Peace VigilLocation: ParlorContact with Questions: Pastor Bob Campbell (willowwellness@gmail.com)FUMC hosts a Peace Vigil open to all. The gathering includes prayer\, silence\, readings\, songs\, chants and an opportunity to share with others.
URL:https://parkridgeumc.org/event/peace-vigil-9/
LOCATION:First UMC-1-Parlor (60)
CATEGORIES:Worship
END:VEVENT
BEGIN:VEVENT
DTSTART;TZID=America/Chicago:20260804T173000
DTEND;TZID=America/Chicago:20260804T190000
DTSTAMP:20260425T053128
CREATED:20251231T171056Z
LAST-MODIFIED:20260424T174805Z
UID:10001002-1785864600-1785870000@parkridgeumc.org
SUMMARY:Jazzercise
DESCRIPTION:
URL:https://parkridgeumc.org/event/jazzercise-61/
LOCATION:First UMC-1-Jorgeson Hall (60)
CATEGORIES:Space Sharing
END:VEVENT
BEGIN:VEVENT
DTSTART;TZID=America/Chicago:20260804T111500
DTEND;TZID=America/Chicago:20260804T131500
DTSTAMP:20260425T053128
CREATED:20260301T223323Z
LAST-MODIFIED:20260424T193257Z
UID:10001493-1785842100-1785849300@parkridgeumc.org
SUMMARY:VYS Lunch
DESCRIPTION:
URL:https://parkridgeumc.org/event/vys-lunch-6/
LOCATION:Countryside Saloon\, 2501 E Ballard Rd\, Des Plaines\, IL\, United States
CATEGORIES:Social
GEO:42.043206;-87.862408
X-APPLE-STRUCTURED-LOCATION;VALUE=URI;X-ADDRESS=Countryside Saloon 2501 E Ballard Rd Des Plaines IL United States;X-APPLE-RADIUS=500;X-TITLE=2501 E Ballard Rd:geo:-87.862408,42.043206
END:VEVENT
BEGIN:VEVENT
DTSTART;TZID=America/Chicago:20260803T193000
DTEND;TZID=America/Chicago:20260803T210000
DTSTAMP:20260425T053128
CREATED:20251231T171055Z
LAST-MODIFIED:20260424T174804Z
UID:10001001-1785785400-1785790800@parkridgeumc.org
SUMMARY:Families Anonymous
DESCRIPTION:
URL:https://parkridgeumc.org/event/families-anonymous-31/
LOCATION:First UMC-1-Parlor (60)
CATEGORIES:Space Sharing
END:VEVENT
BEGIN:VEVENT
DTSTART;TZID=America/Chicago:20260803T184500
DTEND;TZID=America/Chicago:20260803T201500
DTSTAMP:20260425T053128
CREATED:20251231T170502Z
LAST-MODIFIED:20260424T230259Z
UID:10000545-1785782700-1785788100@parkridgeumc.org
SUMMARY:Welcoming Meeting
DESCRIPTION:
URL:https://parkridgeumc.org/event/welcoming-meeting-8/
CATEGORIES:Meetings
END:VEVENT
BEGIN:VEVENT
DTSTART;TZID=America/Chicago:20260803T130000
DTEND;TZID=America/Chicago:20260803T150000
DTSTAMP:20260425T053128
CREATED:20251231T171213Z
LAST-MODIFIED:20260424T143314Z
UID:10001124-1785762000-1785769200@parkridgeumc.org
SUMMARY:Prayer Shawl
DESCRIPTION:
URL:https://parkridgeumc.org/event/prayer-shawl-15/
CATEGORIES:UWFaith (Women's Ministry)
END:VEVENT
BEGIN:VEVENT
DTSTART;TZID=America/Chicago:20260803T110000
DTEND;TZID=America/Chicago:20260803T114500
DTSTAMP:20260425T053128
CREATED:20251231T170501Z
LAST-MODIFIED:20260424T230259Z
UID:10000543-1785754800-1785757500@parkridgeumc.org
SUMMARY:Staff Meeting
DESCRIPTION:
URL:https://parkridgeumc.org/event/staff-meeting-31/
LOCATION:Amy’s Office
CATEGORIES:Meetings
END:VEVENT
BEGIN:VEVENT
DTSTART;TZID=America/Chicago:20260803T093000
DTEND;TZID=America/Chicago:20260803T103000
DTSTAMP:20260425T053128
CREATED:20260423T181801Z
LAST-MODIFIED:20260424T183312Z
UID:10001757-1785749400-1785753000@parkridgeumc.org
SUMMARY:Jazzercise
DESCRIPTION:
URL:https://parkridgeumc.org/event/jazzercise-170/
CATEGORIES:Outside Organizations
END:VEVENT
BEGIN:VEVENT
DTSTART;TZID=America/Chicago:20260802T093000
DTEND;TZID=America/Chicago:20260802T103000
DTSTAMP:20260425T053128
CREATED:20251231T170227Z
LAST-MODIFIED:20260424T180300Z
UID:10000400-1785663000-1785666600@parkridgeumc.org
SUMMARY:Children's Sunday School
DESCRIPTION:
URL:https://parkridgeumc.org/event/childrens-sunday-school-30/
CATEGORIES:All Ages Ministries
END:VEVENT
BEGIN:VEVENT
DTSTART;TZID=America/Chicago:20260802T093000
DTEND;TZID=America/Chicago:20260802T103000
DTSTAMP:20260425T053128
CREATED:20251231T155641Z
LAST-MODIFIED:20260424T133305Z
UID:10000122-1785663000-1785666600@parkridgeumc.org
SUMMARY:Worship Service
DESCRIPTION:
URL:https://parkridgeumc.org/event/worship-service-31/
LOCATION:First UMC-1-Sanctuary (160)
CATEGORIES:Worship
END:VEVENT
BEGIN:VEVENT
DTSTART;TZID=America/Chicago:20260802T080000
DTEND;TZID=America/Chicago:20260802T090000
DTSTAMP:20260425T053128
CREATED:20251231T170052Z
LAST-MODIFIED:20260424T183348Z
UID:10000258-1785657600-1785661200@parkridgeumc.org
SUMMARY:8AM Adult Sunday School
DESCRIPTION:
URL:https://parkridgeumc.org/event/8am-adult-sunday-school-31/
LOCATION:First UMC-1-Library (20)
CATEGORIES:Learning
END:VEVENT
BEGIN:VEVENT
DTSTART;TZID=America/Chicago:20260802T000000
DTEND;TZID=America/Chicago:20260802T235959
DTSTAMP:20260425T053128
CREATED:20251231T170228Z
LAST-MODIFIED:20260424T180300Z
UID:10000401-1785628800-1785715199@parkridgeumc.org
SUMMARY:Youth Mission Trip Celebration Sunday
DESCRIPTION:
URL:https://parkridgeumc.org/event/youth-mission-trip-celebration-sunday/
CATEGORIES:All Ages Ministries
END:VEVENT
BEGIN:VEVENT
DTSTART;TZID=America/Chicago:20260731T180000
DTEND;TZID=America/Chicago:20260731T200000
DTSTAMP:20260425T053128
CREATED:20260214T221806Z
LAST-MODIFIED:20260424T183312Z
UID:10001449-1785520800-1785528000@parkridgeumc.org
SUMMARY:Concerts in the Park
DESCRIPTION:
URL:https://parkridgeumc.org/event/concerts-in-the-park-10/
CATEGORIES:Outside Organizations
END:VEVENT
END:VCALENDAR