BEGIN:VCALENDAR
VERSION:2.0
PRODID:-//First United Methodist Church of Park Ridge - ECPv6.15.20//NONSGML v1.0//EN
CALSCALE:GREGORIAN
METHOD:PUBLISH
X-ORIGINAL-URL:https://parkridgeumc.org
X-WR-CALDESC:Events for First United Methodist Church of Park Ridge
REFRESH-INTERVAL;VALUE=DURATION:PT1H
X-Robots-Tag:noindex
X-PUBLISHED-TTL:PT1H
BEGIN:VTIMEZONE
TZID:America/Chicago
BEGIN:DAYLIGHT
TZOFFSETFROM:-0600
TZOFFSETTO:-0500
TZNAME:CDT
DTSTART:20270314T080000
END:DAYLIGHT
BEGIN:STANDARD
TZOFFSETFROM:-0500
TZOFFSETTO:-0600
TZNAME:CST
DTSTART:20271107T070000
END:STANDARD
BEGIN:DAYLIGHT
TZOFFSETFROM:-0600
TZOFFSETTO:-0500
TZNAME:CDT
DTSTART:20280312T080000
END:DAYLIGHT
BEGIN:STANDARD
TZOFFSETFROM:-0500
TZOFFSETTO:-0600
TZNAME:CST
DTSTART:20281105T070000
END:STANDARD
BEGIN:DAYLIGHT
TZOFFSETFROM:-0600
TZOFFSETTO:-0500
TZNAME:CDT
DTSTART:20290311T080000
END:DAYLIGHT
BEGIN:STANDARD
TZOFFSETFROM:-0500
TZOFFSETTO:-0600
TZNAME:CST
DTSTART:20291104T070000
END:STANDARD
END:VTIMEZONE
BEGIN:VEVENT
DTSTART;TZID=America/Chicago:20280416T093000
DTEND;TZID=America/Chicago:20280416T103000
DTSTAMP:20260420T135610
CREATED:20260416T171819Z
LAST-MODIFIED:20260420T174832Z
UID:10001698-1839490200-1839493800@parkridgeumc.org
SUMMARY:Children's Sunday School
DESCRIPTION:
URL:https://parkridgeumc.org/event/childrens-sunday-school-119/
CATEGORIES:All Ages Ministries
END:VEVENT
BEGIN:VEVENT
DTSTART;TZID=America/Chicago:20280417T110000
DTEND;TZID=America/Chicago:20280417T114500
DTSTAMP:20260420T135610
CREATED:20260417T230323Z
LAST-MODIFIED:20260419T230318Z
UID:10001703-1839582000-1839584700@parkridgeumc.org
SUMMARY:Staff Meeting
DESCRIPTION:
URL:https://parkridgeumc.org/event/staff-meeting-11/
LOCATION:Amy’s Office
CATEGORIES:Meetings
END:VEVENT
BEGIN:VEVENT
DTSTART;TZID=America/Chicago:20280417T130000
DTEND;TZID=America/Chicago:20280417T150000
DTSTAMP:20260420T135610
CREATED:20260417T143309Z
LAST-MODIFIED:20260420T143303Z
UID:10001700-1839589200-1839596400@parkridgeumc.org
SUMMARY:Prayer Shawl
DESCRIPTION:
URL:https://parkridgeumc.org/event/prayer-shawl-56/
LOCATION:First UMC-1-Library (20)
CATEGORIES:UWFaith (Women's Ministry)
END:VEVENT
BEGIN:VEVENT
DTSTART;TZID=America/Chicago:20280417T190000
DTEND;TZID=America/Chicago:20280417T210000
DTSTAMP:20260420T135610
CREATED:20260418T230326Z
LAST-MODIFIED:20260419T230318Z
UID:10001704-1839610800-1839618000@parkridgeumc.org
SUMMARY:Trustees Meeting
DESCRIPTION:
URL:https://parkridgeumc.org/event/trustees-meeting-2/
LOCATION:First UMC-1-Library (20)
CATEGORIES:Meetings
END:VEVENT
BEGIN:VEVENT
DTSTART;TZID=America/Chicago:20280419T180000
DTEND;TZID=America/Chicago:20280419T193000
DTSTAMP:20260420T135610
CREATED:20260419T193315Z
LAST-MODIFIED:20260419T193315Z
UID:10001705-1839780000-1839785400@parkridgeumc.org
SUMMARY:Third Wednesday Dinners
DESCRIPTION:Social: Third Wednesday DinnersStart Time: 6:00 pmLocation: ParlorWhat to Bring: Please bring your own one-person mealContact with Questions: Rocky Daehler (rdaehler@yahoo.com) or Bill Baty (billbaty@gmail.com)Starting in September\, a Third Wednesday Dinner will be hosted in the Parlor. The format is BYOOM—bring your own one-person meal. The intent is to have friendly fellowship once a month by sharing conversations\, eating together\, and even making new acquaintances. Plates\, glasses\, silverware\, napkins\, and tables are provided. All you need to bring is your own food and yourself. These meals will be held in the Parlor at 6:00pm on the third Wednesday of every month.
URL:https://parkridgeumc.org/event/third-wednesday-dinners-2/
LOCATION:First UMC-1-Parlor (60)
CATEGORIES:Social
END:VEVENT
END:VCALENDAR