BEGIN:VCALENDAR
VERSION:2.0
PRODID:-//First United Methodist Church of Park Ridge - ECPv6.15.20//NONSGML v1.0//EN
CALSCALE:GREGORIAN
METHOD:PUBLISH
X-WR-CALNAME:First United Methodist Church of Park Ridge
X-ORIGINAL-URL:https://parkridgeumc.org
X-WR-CALDESC:Events for First United Methodist Church of Park Ridge
REFRESH-INTERVAL;VALUE=DURATION:PT1H
X-Robots-Tag:noindex
X-PUBLISHED-TTL:PT1H
BEGIN:VTIMEZONE
TZID:America/Chicago
BEGIN:DAYLIGHT
TZOFFSETFROM:-0600
TZOFFSETTO:-0500
TZNAME:CDT
DTSTART:20250309T080000
END:DAYLIGHT
BEGIN:STANDARD
TZOFFSETFROM:-0500
TZOFFSETTO:-0600
TZNAME:CST
DTSTART:20251102T070000
END:STANDARD
BEGIN:DAYLIGHT
TZOFFSETFROM:-0600
TZOFFSETTO:-0500
TZNAME:CDT
DTSTART:20260308T080000
END:DAYLIGHT
BEGIN:STANDARD
TZOFFSETFROM:-0500
TZOFFSETTO:-0600
TZNAME:CST
DTSTART:20261101T070000
END:STANDARD
BEGIN:DAYLIGHT
TZOFFSETFROM:-0600
TZOFFSETTO:-0500
TZNAME:CDT
DTSTART:20270314T080000
END:DAYLIGHT
BEGIN:STANDARD
TZOFFSETFROM:-0500
TZOFFSETTO:-0600
TZNAME:CST
DTSTART:20271107T070000
END:STANDARD
END:VTIMEZONE
BEGIN:VEVENT
DTSTART;TZID=America/Chicago:20260614T000000
DTEND;TZID=America/Chicago:20260616T235959
DTSTAMP:20260422T165441
CREATED:20260102T200706Z
LAST-MODIFIED:20260422T180259Z
UID:10001166-1781395200-1781654399@parkridgeumc.org
SUMMARY:Annual Conference 2026
DESCRIPTION:
URL:https://parkridgeumc.org/event/annual-conference-2026/
LOCATION:Schaumburg Convention Center\n1551 Thoreau Dr N\nSchaumburg IL 60173\nUnited States
CATEGORIES:Outside Organizations
END:VEVENT
BEGIN:VEVENT
DTSTART;TZID=America/Chicago:20260614T000000
DTEND;TZID=America/Chicago:20260616T235959
DTSTAMP:20260422T165441
CREATED:20251231T170555Z
LAST-MODIFIED:20260422T180259Z
UID:10000651-1781395200-1781654399@parkridgeumc.org
SUMMARY:AC2026
DESCRIPTION:
URL:https://parkridgeumc.org/event/ac2026/
CATEGORIES:Outside Organizations
END:VEVENT
BEGIN:VEVENT
DTSTART;TZID=America/Chicago:20260613T090000
DTEND;TZID=America/Chicago:20260613T130000
DTSTAMP:20260422T165441
CREATED:20260415T174758Z
LAST-MODIFIED:20260422T180258Z
UID:10001696-1781341200-1781355600@parkridgeumc.org
SUMMARY:Avenues to Independence Walkathon 2026
DESCRIPTION:Fundraiser and Social: Avenues to Independence Walkathon 2026 \nDate: Saturday\, June 13\nTime: Registration 9:00 am–10:15 am; Walk begins at 10:30 am; Post-Walk Party 11:00 am–1:00 pm\nLocation: Maine South High School\nFirst UMC Team Fundraising Page: https://fundraise.givesmart.com/vf/2026AvenuesWalk/team/FirstUMCParkRidge\nContact with Questions: Katy Hansen — khansen240@gmail.com\nJoin the First UMC team for the Avenues to Independence Walkathon—a fundraising walk for adults with developmental and intellectual disabilities. Walk\, donate\, or both! Use the team link above to sign up as a walker or make a donation credited to our First UMC team. A shorter distance option is also available. \nSignup Tips: \nTo donate to our team: open the fundraising page\, click the donate/sign-up button\, enter your donation amount and then don’t click the check box that says “I’d like to sign-up.” Continue to fill in info for your donation. \nTo sign up to walk and donate: open the fundraising page\, click the donate/sign-up button\, enter a donation amount if any\, then click the check box that says “I’d like to sign-up.” If you choose to donate\, also click the check box “Apply funds to myself” and this will attribute your donation to yourself and the FUMC team.
URL:https://parkridgeumc.org/event/avenues-to-independence-walkathon-2026/
LOCATION:Maine South High School\, Park Ridge\, IL\, United States
CATEGORIES:Outside Organizations
GEO:42.037228;-87.843714
END:VEVENT
BEGIN:VEVENT
DTSTART;TZID=America/Chicago:20260612T180000
DTEND;TZID=America/Chicago:20260612T200000
DTSTAMP:20260422T165441
CREATED:20260214T221803Z
LAST-MODIFIED:20260422T180258Z
UID:10001440-1781287200-1781294400@parkridgeumc.org
SUMMARY:Concerts in the Park
DESCRIPTION:
URL:https://parkridgeumc.org/event/concerts-in-the-park-3/
CATEGORIES:Outside Organizations
END:VEVENT
BEGIN:VEVENT
DTSTART;TZID=America/Chicago:20260612T180000
DTEND;TZID=America/Chicago:20260612T193000
DTSTAMP:20260422T165441
CREATED:20251231T170921Z
LAST-MODIFIED:20260422T193303Z
UID:10000774-1781287200-1781292600@parkridgeumc.org
SUMMARY:Ice Cream Social
DESCRIPTION:
URL:https://parkridgeumc.org/event/ice-cream-social/
LOCATION:First UMC-1-Jorgeson Hall (60)
CATEGORIES:Social
END:VEVENT
BEGIN:VEVENT
DTSTART;TZID=America/Chicago:20260612T090000
DTEND;TZID=America/Chicago:20260612T120000
DTSTAMP:20260422T165441
CREATED:20251231T170225Z
LAST-MODIFIED:20260422T180304Z
UID:10000387-1781254800-1781265600@parkridgeumc.org
SUMMARY:? VBS 2026 (option 1 of 2)
DESCRIPTION:
URL:https://parkridgeumc.org/event/vbs-2026-option-1-of-2-3/
LOCATION:First UMC-1-Jorgeson Hall (60)
CATEGORIES:All Ages Ministries
END:VEVENT
BEGIN:VEVENT
DTSTART;TZID=America/Chicago:20260611T193000
DTEND;TZID=America/Chicago:20260611T210000
DTSTAMP:20260422T165441
CREATED:20251231T171047Z
LAST-MODIFIED:20260422T173300Z
UID:10000954-1781206200-1781211600@parkridgeumc.org
SUMMARY:Al-Anon
DESCRIPTION:
URL:https://parkridgeumc.org/event/al-anon-24/
LOCATION:First UMC-1-Room 101 (20)
CATEGORIES:Space Sharing
END:VEVENT
BEGIN:VEVENT
DTSTART;TZID=America/Chicago:20260611T190000
DTEND;TZID=America/Chicago:20260611T210000
DTSTAMP:20260422T165441
CREATED:20251231T171047Z
LAST-MODIFIED:20260422T173300Z
UID:10000953-1781204400-1781211600@parkridgeumc.org
SUMMARY:Toastmasters
DESCRIPTION:
URL:https://parkridgeumc.org/event/toastmasters-11/
LOCATION:First UMC-1-Parlor (60)
CATEGORIES:Space Sharing
END:VEVENT
BEGIN:VEVENT
DTSTART;TZID=America/Chicago:20260611T103000
DTEND;TZID=America/Chicago:20260611T120000
DTSTAMP:20260422T165441
CREATED:20251231T171213Z
LAST-MODIFIED:20260422T143255Z
UID:10001120-1781173800-1781179200@parkridgeumc.org
SUMMARY:UWF Board Meeting
DESCRIPTION:
URL:https://parkridgeumc.org/event/uwf-board-meeting-6/
LOCATION:First UMC-1-Library (20)
CATEGORIES:UWFaith (Women's Ministry)
END:VEVENT
BEGIN:VEVENT
DTSTART;TZID=America/Chicago:20260611T090000
DTEND;TZID=America/Chicago:20260611T120000
DTSTAMP:20260422T165441
CREATED:20251231T170225Z
LAST-MODIFIED:20260422T180304Z
UID:10000386-1781168400-1781179200@parkridgeumc.org
SUMMARY:? VBS 2026 (option 1 of 2)
DESCRIPTION:
URL:https://parkridgeumc.org/event/vbs-2026-option-1-of-2-2/
LOCATION:First UMC-1-Jorgeson Hall (60)
CATEGORIES:All Ages Ministries
END:VEVENT
BEGIN:VEVENT
DTSTART;TZID=America/Chicago:20260610T090000
DTEND;TZID=America/Chicago:20260610T120000
DTSTAMP:20260422T165441
CREATED:20251231T170225Z
LAST-MODIFIED:20260422T180304Z
UID:10000385-1781082000-1781092800@parkridgeumc.org
SUMMARY:? VBS 2026 (option 1 of 2)
DESCRIPTION:
URL:https://parkridgeumc.org/event/vbs-2026-option-1-of-2/
LOCATION:First UMC-1-Jorgeson Hall (60)
CATEGORIES:All Ages Ministries
END:VEVENT
BEGIN:VEVENT
DTSTART;TZID=America/Chicago:20260609T173000
DTEND;TZID=America/Chicago:20260609T190000
DTSTAMP:20260422T165441
CREATED:20251231T171047Z
LAST-MODIFIED:20260422T173300Z
UID:10000951-1781026200-1781031600@parkridgeumc.org
SUMMARY:Jazzercise
DESCRIPTION:
URL:https://parkridgeumc.org/event/jazzercise-45/
LOCATION:First UMC-1-Room 101 (20)
CATEGORIES:Space Sharing
END:VEVENT
BEGIN:VEVENT
DTSTART;TZID=America/Chicago:20260608T193000
DTEND;TZID=America/Chicago:20260608T210000
DTSTAMP:20260422T165441
CREATED:20251231T171047Z
LAST-MODIFIED:20260422T173300Z
UID:10000950-1780947000-1780952400@parkridgeumc.org
SUMMARY:Families Anonymous
DESCRIPTION:
URL:https://parkridgeumc.org/event/families-anonymous-23/
LOCATION:First UMC-1-Parlor (60)
CATEGORIES:Space Sharing
END:VEVENT
BEGIN:VEVENT
DTSTART;TZID=America/Chicago:20260608T110000
DTEND;TZID=America/Chicago:20260608T130000
DTSTAMP:20260422T165441
CREATED:20260107T170407Z
LAST-MODIFIED:20260422T173300Z
UID:10001193-1780916400-1780923600@parkridgeumc.org
SUMMARY:German Club - 101
DESCRIPTION:
URL:https://parkridgeumc.org/event/german-club-101-17/
LOCATION:First UMC-1-Room 101 (20)
CATEGORIES:Space Sharing
END:VEVENT
BEGIN:VEVENT
DTSTART;TZID=America/Chicago:20260608T110000
DTEND;TZID=America/Chicago:20260608T130000
DTSTAMP:20260422T165441
CREATED:20251231T171047Z
LAST-MODIFIED:20260106T053340Z
UID:10000949-1780916400-1780923600@parkridgeumc.org
SUMMARY:German Club - 101
DESCRIPTION:
URL:https://parkridgeumc.org/event/german-club-101-6/
CATEGORIES:Space Sharing
END:VEVENT
BEGIN:VEVENT
DTSTART;TZID=America/Chicago:20260608T110000
DTEND;TZID=America/Chicago:20260608T114500
DTSTAMP:20260422T165441
CREATED:20251231T170500Z
LAST-MODIFIED:20260421T230259Z
UID:10000531-1780916400-1780919100@parkridgeumc.org
SUMMARY:Staff Meeting
DESCRIPTION:
URL:https://parkridgeumc.org/event/staff-meeting-23/
LOCATION:Amy’s Office
CATEGORIES:Meetings
END:VEVENT
BEGIN:VEVENT
DTSTART;TZID=America/Chicago:20260607T093000
DTEND;TZID=America/Chicago:20260607T103000
DTSTAMP:20260422T165441
CREATED:20251231T170225Z
LAST-MODIFIED:20260422T180304Z
UID:10000384-1780824600-1780828200@parkridgeumc.org
SUMMARY:Children's Sunday School
DESCRIPTION:
URL:https://parkridgeumc.org/event/childrens-sunday-school-22/
CATEGORIES:All Ages Ministries
END:VEVENT
BEGIN:VEVENT
DTSTART;TZID=America/Chicago:20260607T093000
DTEND;TZID=America/Chicago:20260607T103000
DTSTAMP:20260422T165441
CREATED:20251231T155640Z
LAST-MODIFIED:20260422T133256Z
UID:10000112-1780824600-1780828200@parkridgeumc.org
SUMMARY:Worship Service
DESCRIPTION:
URL:https://parkridgeumc.org/event/worship-service-23/
LOCATION:First UMC-1-Sanctuary (160)
CATEGORIES:Worship
END:VEVENT
BEGIN:VEVENT
DTSTART;TZID=America/Chicago:20260607T080000
DTEND;TZID=America/Chicago:20260607T090000
DTSTAMP:20260422T165441
CREATED:20251231T170051Z
LAST-MODIFIED:20260422T181811Z
UID:10000248-1780819200-1780822800@parkridgeumc.org
SUMMARY:8AM Adult Sunday School
DESCRIPTION:
URL:https://parkridgeumc.org/event/8am-adult-sunday-school-23/
LOCATION:First UMC-1-Library (20)
CATEGORIES:Learning
END:VEVENT
BEGIN:VEVENT
DTSTART;TZID=America/Chicago:20260607T000000
DTEND;TZID=America/Chicago:20260615T000000
DTSTAMP:20260422T165441
CREATED:20251231T171048Z
LAST-MODIFIED:20260422T173300Z
UID:10000955-1780790400-1781481600@parkridgeumc.org
SUMMARY:FUMC Emporia Kansas Youth Fireside/Jorgeson
DESCRIPTION:
URL:https://parkridgeumc.org/event/fumc-emporia-kansas-youth-fireside-jorgeson/
CATEGORIES:Space Sharing
END:VEVENT
BEGIN:VEVENT
DTSTART;TZID=America/Chicago:20260607T000000
DTEND;TZID=America/Chicago:20260607T235959
DTSTAMP:20260422T165441
CREATED:20251231T155640Z
LAST-MODIFIED:20260422T133256Z
UID:10000113-1780790400-1780876799@parkridgeumc.org
SUMMARY:? Pride Sunday
DESCRIPTION:
URL:https://parkridgeumc.org/event/pride-sunday/
CATEGORIES:Worship
END:VEVENT
BEGIN:VEVENT
DTSTART;TZID=America/Chicago:20260605T180000
DTEND;TZID=America/Chicago:20260605T200000
DTSTAMP:20260422T165441
CREATED:20260214T221803Z
LAST-MODIFIED:20260422T180257Z
UID:10001439-1780682400-1780689600@parkridgeumc.org
SUMMARY:Concerts in the Park
DESCRIPTION:
URL:https://parkridgeumc.org/event/concerts-in-the-park-2/
CATEGORIES:Outside Organizations
END:VEVENT
BEGIN:VEVENT
DTSTART;TZID=America/Chicago:20260605T160000
DTEND;TZID=America/Chicago:20260605T200000
DTSTAMP:20260422T165441
CREATED:20251231T170554Z
LAST-MODIFIED:20260422T180258Z
UID:10000650-1780675200-1780689600@parkridgeumc.org
SUMMARY:Pride in Park Ridge
DESCRIPTION:
URL:https://parkridgeumc.org/event/pride-in-park-ridge/
LOCATION:Uptown Park Ridge – IL\n50 N Northwest Hwy\nPark Ridge IL 60068
CATEGORIES:Outside Organizations
END:VEVENT
BEGIN:VEVENT
DTSTART;TZID=America/Chicago:20260604T193000
DTEND;TZID=America/Chicago:20260604T210000
DTSTAMP:20260422T165441
CREATED:20251231T171047Z
LAST-MODIFIED:20260422T173300Z
UID:10000948-1780601400-1780606800@parkridgeumc.org
SUMMARY:Al-Anon
DESCRIPTION:
URL:https://parkridgeumc.org/event/al-anon-23/
LOCATION:First UMC-1-Room 101 (20)
CATEGORIES:Space Sharing
END:VEVENT
BEGIN:VEVENT
DTSTART;TZID=America/Chicago:20260604T000000
DTEND;TZID=America/Chicago:20260621T235959
DTSTAMP:20260422T165441
CREATED:20251231T170343Z
LAST-MODIFIED:20260422T201803Z
UID:10000483-1780531200-1782086399@parkridgeumc.org
SUMMARY:Father’s for Mission 2026
DESCRIPTION:
URL:https://parkridgeumc.org/event/fathers-for-mission-2026/
CATEGORIES:Collections / Drives
END:VEVENT
BEGIN:VEVENT
DTSTART;TZID=America/Chicago:20260602T190000
DTEND;TZID=America/Chicago:20260602T194500
DTSTAMP:20260422T165441
CREATED:20251231T155640Z
LAST-MODIFIED:20260422T133256Z
UID:10000111-1780426800-1780429500@parkridgeumc.org
SUMMARY:Peace Vigil
DESCRIPTION:Worship and Learning: First Tuesday Peace VigilLocation: ParlorContact with Questions: Pastor Bob Campbell (willowwellness@gmail.com)FUMC hosts a Peace Vigil open to all. The gathering includes prayer\, silence\, readings\, songs\, chants and an opportunity to share with others.
URL:https://parkridgeumc.org/event/peace-vigil-7/
LOCATION:First UMC-1-Parlor (60)
CATEGORIES:Worship
END:VEVENT
BEGIN:VEVENT
DTSTART;TZID=America/Chicago:20260602T173000
DTEND;TZID=America/Chicago:20260602T190000
DTSTAMP:20260422T165441
CREATED:20251231T171046Z
LAST-MODIFIED:20260422T173300Z
UID:10000945-1780421400-1780426800@parkridgeumc.org
SUMMARY:Jazzercise
DESCRIPTION:
URL:https://parkridgeumc.org/event/jazzercise-43/
LOCATION:First UMC-1-Jorgeson Hall (60)
CATEGORIES:Space Sharing
END:VEVENT
BEGIN:VEVENT
DTSTART;TZID=America/Chicago:20260602T111500
DTEND;TZID=America/Chicago:20260602T131500
DTSTAMP:20260422T165441
CREATED:20260301T223321Z
LAST-MODIFIED:20260422T193303Z
UID:10001491-1780398900-1780406100@parkridgeumc.org
SUMMARY:VYS Lunch
DESCRIPTION:
URL:https://parkridgeumc.org/event/vys-lunch-4/
LOCATION:Countryside Saloon\, 2501 E Ballard Rd\, Des Plaines\, IL\, United States
CATEGORIES:Social
GEO:42.043206;-87.862408
X-APPLE-STRUCTURED-LOCATION;VALUE=URI;X-ADDRESS=Countryside Saloon 2501 E Ballard Rd Des Plaines IL United States;X-APPLE-RADIUS=500;X-TITLE=2501 E Ballard Rd:geo:-87.862408,42.043206
END:VEVENT
BEGIN:VEVENT
DTSTART;TZID=America/Chicago:20260601T193000
DTEND;TZID=America/Chicago:20260601T210000
DTSTAMP:20260422T165441
CREATED:20251231T171046Z
LAST-MODIFIED:20260422T173259Z
UID:10000944-1780342200-1780347600@parkridgeumc.org
SUMMARY:Families Anonymous
DESCRIPTION:
URL:https://parkridgeumc.org/event/families-anonymous-22/
LOCATION:First UMC-1-Parlor (60)
CATEGORIES:Space Sharing
END:VEVENT
BEGIN:VEVENT
DTSTART;TZID=America/Chicago:20260601T184500
DTEND;TZID=America/Chicago:20260601T201500
DTSTAMP:20260422T165441
CREATED:20251231T170500Z
LAST-MODIFIED:20260421T230258Z
UID:10000530-1780339500-1780344900@parkridgeumc.org
SUMMARY:Welcoming Meeting
DESCRIPTION:────────── \nScott Himel is inviting you to a scheduled Zoom meeting.Join Zoom Meetinghttps://us02web.zoom.us/j/82332328497?pwd=JwwKKIMWNn3olBgSNY4gkCbG7ruDn4.1 \nMeeting agendahttps://docs.zoom.us/agenda/doc/0e380a86-d83d-4dc2-9b0c-0255fd01e9db?from=chext \nView meeting insights with Zoom AI Companionhttps://us02web.zoom.us/launch/edl?muid=0e380a86-d83d-4dc2-9b0c-0255fd01e9db&from=chext \nMeeting ID: 823 3232 8497Passcode: 396971 \n— \nOne tap mobile+13126266799\,\,82332328497#\,\,\,\,*396971# US (Chicago)+13092053325\,\,82332328497#\,\,\,\,*396971# US \nJoin instructionshttps://us02web.zoom.us/meetings/82332328497/invitations?signature=l7Ydc6CFgWGkG_rOpwbDPWboFA13TVBd2nD8CzphYQg \n──────────
URL:https://parkridgeumc.org/event/welcoming-meeting-6/
LOCATION:https://us02web.zoom.us/j/82332328497?pwd=JwwKKIMWNn3olBgSNY4gkCbG7ruDn4.1&jst=3
CATEGORIES:Meetings
END:VEVENT
END:VCALENDAR