BEGIN:VCALENDAR
VERSION:2.0
PRODID:-//First United Methodist Church of Park Ridge - ECPv6.15.20//NONSGML v1.0//EN
CALSCALE:GREGORIAN
METHOD:PUBLISH
X-WR-CALNAME:First United Methodist Church of Park Ridge
X-ORIGINAL-URL:https://parkridgeumc.org
X-WR-CALDESC:Events for First United Methodist Church of Park Ridge
REFRESH-INTERVAL;VALUE=DURATION:PT1H
X-Robots-Tag:noindex
X-PUBLISHED-TTL:PT1H
BEGIN:VTIMEZONE
TZID:America/Chicago
BEGIN:DAYLIGHT
TZOFFSETFROM:-0600
TZOFFSETTO:-0500
TZNAME:CDT
DTSTART:20250309T080000
END:DAYLIGHT
BEGIN:STANDARD
TZOFFSETFROM:-0500
TZOFFSETTO:-0600
TZNAME:CST
DTSTART:20251102T070000
END:STANDARD
BEGIN:DAYLIGHT
TZOFFSETFROM:-0600
TZOFFSETTO:-0500
TZNAME:CDT
DTSTART:20260308T080000
END:DAYLIGHT
BEGIN:STANDARD
TZOFFSETFROM:-0500
TZOFFSETTO:-0600
TZNAME:CST
DTSTART:20261101T070000
END:STANDARD
BEGIN:DAYLIGHT
TZOFFSETFROM:-0600
TZOFFSETTO:-0500
TZNAME:CDT
DTSTART:20270314T080000
END:DAYLIGHT
BEGIN:STANDARD
TZOFFSETFROM:-0500
TZOFFSETTO:-0600
TZNAME:CST
DTSTART:20271107T070000
END:STANDARD
END:VTIMEZONE
BEGIN:VEVENT
DTSTART;TZID=America/Chicago:20260518T193000
DTEND;TZID=America/Chicago:20260518T210000
DTSTAMP:20260422T165345
CREATED:20251231T171044Z
LAST-MODIFIED:20260422T173258Z
UID:10000930-1779132600-1779138000@parkridgeumc.org
SUMMARY:Families Anonymous
DESCRIPTION:
URL:https://parkridgeumc.org/event/families-anonymous-20/
LOCATION:First UMC-1-Parlor (60)
CATEGORIES:Space Sharing
END:VEVENT
BEGIN:VEVENT
DTSTART;TZID=America/Chicago:20260518T180000
DTEND;TZID=America/Chicago:20260518T210000
DTSTAMP:20260422T165345
CREATED:20251231T171044Z
LAST-MODIFIED:20260422T173258Z
UID:10000929-1779127200-1779138000@parkridgeumc.org
SUMMARY:Scout Court of Honor
DESCRIPTION:
URL:https://parkridgeumc.org/event/scout-court-of-honor/
LOCATION:First UMC-1-Jorgeson Hall (60)
CATEGORIES:Space Sharing
END:VEVENT
BEGIN:VEVENT
DTSTART;TZID=America/Chicago:20260518T130000
DTEND;TZID=America/Chicago:20260518T150000
DTSTAMP:20260422T165345
CREATED:20251231T171212Z
LAST-MODIFIED:20260422T143254Z
UID:10001118-1779109200-1779116400@parkridgeumc.org
SUMMARY:Prayer Shawl
DESCRIPTION:
URL:https://parkridgeumc.org/event/prayer-shawl-10/
LOCATION:First UMC-1-Library (20)
CATEGORIES:UWFaith (Women's Ministry)
END:VEVENT
BEGIN:VEVENT
DTSTART;TZID=America/Chicago:20260518T110000
DTEND;TZID=America/Chicago:20260518T114500
DTSTAMP:20260422T165345
CREATED:20251231T170458Z
LAST-MODIFIED:20260421T230257Z
UID:10000526-1779102000-1779104700@parkridgeumc.org
SUMMARY:Staff Meeting
DESCRIPTION:
URL:https://parkridgeumc.org/event/staff-meeting-20/
LOCATION:Amy’s Office
CATEGORIES:Meetings
END:VEVENT
BEGIN:VEVENT
DTSTART;TZID=America/Chicago:20260517T150000
DTEND;TZID=America/Chicago:20260517T180000
DTSTAMP:20260422T165345
CREATED:20251231T170656Z
LAST-MODIFIED:20260411T221852Z
UID:10000677-1779030000-1779040800@parkridgeumc.org
SUMMARY:Sunday Night Suppers
DESCRIPTION:
URL:https://parkridgeumc.org/event/sunday-night-suppers-21/
LOCATION:First UMC-1-Jorgeson Hall (60)
CATEGORIES:Service
END:VEVENT
BEGIN:VEVENT
DTSTART;TZID=America/Chicago:20260517T103000
DTEND;TZID=America/Chicago:20260517T120000
DTSTAMP:20260422T165345
CREATED:20251231T170921Z
LAST-MODIFIED:20260422T193302Z
UID:10000772-1779013800-1779019200@parkridgeumc.org
SUMMARY:Confirmation Sunday Reception
DESCRIPTION:
URL:https://parkridgeumc.org/event/confirmation-sunday-reception/
LOCATION:First UMC-1-Parlor (60)
CATEGORIES:Social
END:VEVENT
BEGIN:VEVENT
DTSTART;TZID=America/Chicago:20260517T093000
DTEND;TZID=America/Chicago:20260517T103000
DTSTAMP:20260422T165345
CREATED:20251231T170224Z
LAST-MODIFIED:20260422T180303Z
UID:10000380-1779010200-1779013800@parkridgeumc.org
SUMMARY:Children's Sunday School
DESCRIPTION:
URL:https://parkridgeumc.org/event/childrens-sunday-school-19/
CATEGORIES:All Ages Ministries
END:VEVENT
BEGIN:VEVENT
DTSTART;TZID=America/Chicago:20260517T093000
DTEND;TZID=America/Chicago:20260517T103000
DTSTAMP:20260422T165345
CREATED:20251231T155639Z
LAST-MODIFIED:20260422T133255Z
UID:10000108-1779010200-1779013800@parkridgeumc.org
SUMMARY:Confirmation Sunday Worship
DESCRIPTION:Worship Service: Confirmation Sunday \nDate: Sunday\, May 17\nTime: 9:30 am (Worship); Snack n’ Chat immediately following in Jorgeson Hall\nLocation: Sanctuary; Snack n’ Chat in Jorgeson Hall\nContact with Questions: Pastor Scott Himel — shimel@parkridgeumc.org\nCelebrate with us as four of our young people — Zach Gaske\, Max Washburn\, Natalie Armstrong\, and Julien Butchko — confirm their faith before the congregation! After a nine-month journey of study\, reflection\, and conversation together\, our confirmands will profess their faith and remember their baptisms during worship. We’ll also hear from each of their mentors\, and the confirmands will share the projects they’ve worked on throughout the year. Following worship\, head over to Jorgeson Hall for Snack n’ Chat — a chance to greet our confirmands\, learn more about their projects\, and congratulate them on this important step in their faith journey. This is a joyful\, celebratory day for our whole church family\, and we hope you can be there to support them!
URL:https://parkridgeumc.org/event/worship-service-20/
LOCATION:First UMC-1-Sanctuary (160)
CATEGORIES:Worship
END:VEVENT
BEGIN:VEVENT
DTSTART;TZID=America/Chicago:20260517T080000
DTEND;TZID=America/Chicago:20260517T090000
DTSTAMP:20260422T165345
CREATED:20251231T170050Z
LAST-MODIFIED:20260422T181810Z
UID:10000244-1779004800-1779008400@parkridgeumc.org
SUMMARY:8AM Adult Sunday School
DESCRIPTION:
URL:https://parkridgeumc.org/event/8am-adult-sunday-school-20/
LOCATION:First UMC-1-Library (20)
CATEGORIES:Learning
END:VEVENT
BEGIN:VEVENT
DTSTART;TZID=America/Chicago:20260514T193000
DTEND;TZID=America/Chicago:20260514T210000
DTSTAMP:20260422T165345
CREATED:20251231T171044Z
LAST-MODIFIED:20260422T173258Z
UID:10000928-1778787000-1778792400@parkridgeumc.org
SUMMARY:Al-Anon
DESCRIPTION:
URL:https://parkridgeumc.org/event/al-anon-20/
LOCATION:First UMC-1-Room 101 (20)
CATEGORIES:Space Sharing
END:VEVENT
BEGIN:VEVENT
DTSTART;TZID=America/Chicago:20260514T190000
DTEND;TZID=America/Chicago:20260514T210000
DTSTAMP:20260422T165345
CREATED:20251231T171043Z
LAST-MODIFIED:20260422T173258Z
UID:10000926-1778785200-1778792400@parkridgeumc.org
SUMMARY:Toastmasters
DESCRIPTION:
URL:https://parkridgeumc.org/event/toastmasters-9/
LOCATION:First UMC-1-Parlor (60)
CATEGORIES:Space Sharing
END:VEVENT
BEGIN:VEVENT
DTSTART;TZID=America/Chicago:20260514T123000
DTEND;TZID=America/Chicago:20260514T153000
DTSTAMP:20260422T165345
CREATED:20251231T171212Z
LAST-MODIFIED:20260422T143254Z
UID:10001117-1778761800-1778772600@parkridgeumc.org
SUMMARY:UWF General Meeting: Where do Those Pill Bottles Go?
DESCRIPTION:UWFaith: Where do Those Pill Bottles Go? \nDate: Thursday\, May 14Time: 12:30 pmLocation: Parlor at First UMCContact with Questions: Andrea Thomas — andrea8141@comcast.net \nUWFaith May Program will be an overview of Matthew 25 Ministries in Cincinnati\, Ohio. Andrea Thomas will share about this ministry that accepts our pill bottles and sends them to medical facilities in need. Andrea will also lead the group in card making. Lunch will be served. \nEvent ID: EVT-0878
URL:https://parkridgeumc.org/event/uwf-general-meeting-4/
LOCATION:First UMC-1-Parlor (60)
CATEGORIES:UWFaith (Women's Ministry)
END:VEVENT
BEGIN:VEVENT
DTSTART;TZID=America/Chicago:20260514T103000
DTEND;TZID=America/Chicago:20260514T120000
DTSTAMP:20260422T165345
CREATED:20251231T171212Z
LAST-MODIFIED:20260422T143253Z
UID:10001116-1778754600-1778760000@parkridgeumc.org
SUMMARY:UWF Board Meeting
DESCRIPTION:
URL:https://parkridgeumc.org/event/uwf-board-meeting-5/
LOCATION:First UMC-1-Library (20)
CATEGORIES:UWFaith (Women's Ministry)
END:VEVENT
BEGIN:VEVENT
DTSTART;TZID=America/Chicago:20260514T083000
DTEND;TZID=America/Chicago:20260514T140000
DTSTAMP:20260422T165345
CREATED:20251231T171043Z
LAST-MODIFIED:20260422T173258Z
UID:10000925-1778747400-1778767200@parkridgeumc.org
SUMMARY:DCOM
DESCRIPTION:
URL:https://parkridgeumc.org/event/dcom-5/
LOCATION:First UMC-1-Jorgeson Hall (60)
CATEGORIES:Space Sharing
END:VEVENT
BEGIN:VEVENT
DTSTART;TZID=America/Chicago:20260514T000000
DTEND;TZID=America/Chicago:20260607T235959
DTSTAMP:20260422T165345
CREATED:20251231T170343Z
LAST-MODIFIED:20260422T201803Z
UID:10000481-1778716800-1780876799@parkridgeumc.org
SUMMARY:Bishop’s Appeal 2026
DESCRIPTION:
URL:https://parkridgeumc.org/event/bishops-appeal-2026/
CATEGORIES:Collections / Drives
END:VEVENT
BEGIN:VEVENT
DTSTART;TZID=America/Chicago:20260513T183000
DTEND;TZID=America/Chicago:20260513T193000
DTSTAMP:20260422T165345
CREATED:20260414T170357Z
LAST-MODIFIED:20260422T173257Z
UID:10001693-1778697000-1778700600@parkridgeumc.org
SUMMARY:Ranger Scout Meeting
DESCRIPTION:
URL:https://parkridgeumc.org/event/ranger-scout-meeting/
LOCATION:First UMC-1-Parlor (60)
CATEGORIES:Space Sharing
END:VEVENT
BEGIN:VEVENT
DTSTART;TZID=America/Chicago:20260512T173000
DTEND;TZID=America/Chicago:20260512T190000
DTSTAMP:20260422T165345
CREATED:20251231T171043Z
LAST-MODIFIED:20260422T173257Z
UID:10000923-1778607000-1778612400@parkridgeumc.org
SUMMARY:Jazzercise
DESCRIPTION:
URL:https://parkridgeumc.org/event/jazzercise-37/
LOCATION:First UMC-1-Jorgeson Hall (60)
CATEGORIES:Space Sharing
END:VEVENT
BEGIN:VEVENT
DTSTART;TZID=America/Chicago:20260511T193000
DTEND;TZID=America/Chicago:20260511T210000
DTSTAMP:20260422T165345
CREATED:20251231T171043Z
LAST-MODIFIED:20260422T173257Z
UID:10000922-1778527800-1778533200@parkridgeumc.org
SUMMARY:Families Anonymous
DESCRIPTION:
URL:https://parkridgeumc.org/event/families-anonymous-19/
LOCATION:First UMC-1-Parlor (60)
CATEGORIES:Space Sharing
END:VEVENT
BEGIN:VEVENT
DTSTART;TZID=America/Chicago:20260511T110000
DTEND;TZID=America/Chicago:20260511T130000
DTSTAMP:20260422T165345
CREATED:20260107T170401Z
LAST-MODIFIED:20260422T173257Z
UID:10001192-1778497200-1778504400@parkridgeumc.org
SUMMARY:German Club - 101
DESCRIPTION:
URL:https://parkridgeumc.org/event/german-club-101-16/
LOCATION:First UMC-1-Room 101 (20)
CATEGORIES:Space Sharing
END:VEVENT
BEGIN:VEVENT
DTSTART;TZID=America/Chicago:20260511T110000
DTEND;TZID=America/Chicago:20260511T130000
DTSTAMP:20260422T165345
CREATED:20251231T171042Z
LAST-MODIFIED:20260106T053338Z
UID:10000920-1778497200-1778504400@parkridgeumc.org
SUMMARY:German Club - 101
DESCRIPTION:
URL:https://parkridgeumc.org/event/german-club-101-5/
CATEGORIES:Space Sharing
END:VEVENT
BEGIN:VEVENT
DTSTART;TZID=America/Chicago:20260511T110000
DTEND;TZID=America/Chicago:20260511T114500
DTSTAMP:20260422T165345
CREATED:20251231T170458Z
LAST-MODIFIED:20260421T230257Z
UID:10000525-1778497200-1778499900@parkridgeumc.org
SUMMARY:Staff Meeting
DESCRIPTION:
URL:https://parkridgeumc.org/event/staff-meeting-19/
LOCATION:Amy’s Office
CATEGORIES:Meetings
END:VEVENT
BEGIN:VEVENT
DTSTART;TZID=America/Chicago:20260511T090000
DTEND;TZID=America/Chicago:20260511T120000
DTSTAMP:20260422T165345
CREATED:20260107T170401Z
LAST-MODIFIED:20260422T173257Z
UID:10001191-1778490000-1778500800@parkridgeumc.org
SUMMARY:PEO
DESCRIPTION:
URL:https://parkridgeumc.org/event/peo-14/
LOCATION:First UMC-1-Library (20)
CATEGORIES:Space Sharing
END:VEVENT
BEGIN:VEVENT
DTSTART;TZID=America/Chicago:20260511T090000
DTEND;TZID=America/Chicago:20260511T120000
DTSTAMP:20260422T165345
CREATED:20251231T171043Z
LAST-MODIFIED:20260106T053338Z
UID:10000921-1778490000-1778500800@parkridgeumc.org
SUMMARY:PEO
DESCRIPTION:
URL:https://parkridgeumc.org/event/peo-5/
LOCATION:First UMC-1-Parlor (60)
CATEGORIES:Space Sharing
END:VEVENT
BEGIN:VEVENT
DTSTART;TZID=America/Chicago:20260510T150000
DTEND;TZID=America/Chicago:20260510T180000
DTSTAMP:20260422T165345
CREATED:20251231T170656Z
LAST-MODIFIED:20260411T221852Z
UID:10000676-1778425200-1778436000@parkridgeumc.org
SUMMARY:Sunday Night Suppers
DESCRIPTION:
URL:https://parkridgeumc.org/event/sunday-night-suppers-20/
LOCATION:First UMC-1-Jorgeson Hall (60)
CATEGORIES:Service
END:VEVENT
BEGIN:VEVENT
DTSTART;TZID=America/Chicago:20260510T093000
DTEND;TZID=America/Chicago:20260510T103000
DTSTAMP:20260422T165345
CREATED:20251231T170224Z
LAST-MODIFIED:20260422T180303Z
UID:10000378-1778405400-1778409000@parkridgeumc.org
SUMMARY:Children's Sunday School
DESCRIPTION:
URL:https://parkridgeumc.org/event/childrens-sunday-school-18/
CATEGORIES:All Ages Ministries
END:VEVENT
BEGIN:VEVENT
DTSTART;TZID=America/Chicago:20260510T093000
DTEND;TZID=America/Chicago:20260510T103000
DTSTAMP:20260422T165345
CREATED:20251231T155639Z
LAST-MODIFIED:20260422T133255Z
UID:10000106-1778405400-1778409000@parkridgeumc.org
SUMMARY:Worship Service
DESCRIPTION:
URL:https://parkridgeumc.org/event/worship-service-19/
LOCATION:First UMC-1-Sanctuary (160)
CATEGORIES:Worship
END:VEVENT
BEGIN:VEVENT
DTSTART;TZID=America/Chicago:20260510T083000
DTEND;TZID=America/Chicago:20260510T103000
DTSTAMP:20260422T165345
CREATED:20260331T191757Z
LAST-MODIFIED:20260422T201801Z
UID:10001602-1778401800-1778409000@parkridgeumc.org
SUMMARY:Mother’s Day Fundraiser: Chocolate Strawberries & Pretzels
DESCRIPTION:Youth Mission Trip Fundraiser: Mother’s Day Chocolate-Covered Strawberries and Pretzels \nOrder Forms Available: During Snack and Chat on April 26 and May 3\, or email Rochita. \nOrder Deadline: Sunday\, May 3 \nCost:  \nOrder Pickup: After worship on Sunday\, May 10 (Mother’s Day) at FUMC\, Park Ridge \nContact with Questions: Rochita Plonka (rplonka@parkridgeumc.org) \nThis Mother’s Day\, honor the women who reflect a mother’s love through care\, encouragement\, and compassion. Celebrate them with delicious chocolate-covered strawberries and pretzels. All proceeds support this year’s Youth Mission Trip to Duluth\, Minnesota.
URL:https://parkridgeumc.org/event/mothers-day-fundraiser-chocolate-strawberries-pretzels/
CATEGORIES:Collections / Drives
END:VEVENT
BEGIN:VEVENT
DTSTART;TZID=America/Chicago:20260510T080000
DTEND;TZID=America/Chicago:20260510T090000
DTSTAMP:20260422T165345
CREATED:20251231T170050Z
LAST-MODIFIED:20260422T181810Z
UID:10000243-1778400000-1778403600@parkridgeumc.org
SUMMARY:8AM Adult Sunday School
DESCRIPTION:
URL:https://parkridgeumc.org/event/8am-adult-sunday-school-19/
LOCATION:First UMC-1-Library (20)
CATEGORIES:Learning
END:VEVENT
BEGIN:VEVENT
DTSTART;TZID=America/Chicago:20260509T090000
DTEND;TZID=America/Chicago:20260509T150000
DTSTAMP:20260422T165345
CREATED:20260326T181903Z
LAST-MODIFIED:20260422T180257Z
UID:10001594-1778317200-1778338800@parkridgeumc.org
SUMMARY:Congregational Care and Visitation Training (Day 2)
DESCRIPTION:
URL:https://parkridgeumc.org/event/congregational-care-and-visitation-training-day-2/
LOCATION:Kingswood at the Buffalo Grove campus
CATEGORIES:Outside Organizations
END:VEVENT
BEGIN:VEVENT
DTSTART;TZID=America/Chicago:20260508T130000
DTEND;TZID=America/Chicago:20260508T190000
DTSTAMP:20260422T165345
CREATED:20260326T181902Z
LAST-MODIFIED:20260422T180257Z
UID:10001593-1778245200-1778266800@parkridgeumc.org
SUMMARY:Congregational Care and Visitation Training (Day 1)
DESCRIPTION:
URL:https://parkridgeumc.org/event/congregational-care-and-visitation-training-day-1/
LOCATION:Kingswood at the Buffalo Grove campus
CATEGORIES:Outside Organizations
END:VEVENT
END:VCALENDAR